BEGIN:VCALENDAR
VERSION:2.0
PRODID:-//CWA 4502 - ECPv6.15.20//NONSGML v1.0//EN
CALSCALE:GREGORIAN
METHOD:PUBLISH
X-WR-CALNAME:CWA 4502
X-ORIGINAL-URL:https://www.cwa4502.org
X-WR-CALDESC:Events for CWA 4502
REFRESH-INTERVAL;VALUE=DURATION:PT1H
X-Robots-Tag:noindex
X-PUBLISHED-TTL:PT1H
BEGIN:VTIMEZONE
TZID:America/Chicago
BEGIN:DAYLIGHT
TZOFFSETFROM:-0600
TZOFFSETTO:-0500
TZNAME:CDT
DTSTART:20230312T080000
END:DAYLIGHT
BEGIN:STANDARD
TZOFFSETFROM:-0500
TZOFFSETTO:-0600
TZNAME:CST
DTSTART:20231105T070000
END:STANDARD
BEGIN:DAYLIGHT
TZOFFSETFROM:-0600
TZOFFSETTO:-0500
TZNAME:CDT
DTSTART:20240310T080000
END:DAYLIGHT
BEGIN:STANDARD
TZOFFSETFROM:-0500
TZOFFSETTO:-0600
TZNAME:CST
DTSTART:20241103T070000
END:STANDARD
BEGIN:DAYLIGHT
TZOFFSETFROM:-0600
TZOFFSETTO:-0500
TZNAME:CDT
DTSTART:20250309T080000
END:DAYLIGHT
BEGIN:STANDARD
TZOFFSETFROM:-0500
TZOFFSETTO:-0600
TZNAME:CST
DTSTART:20251102T070000
END:STANDARD
BEGIN:DAYLIGHT
TZOFFSETFROM:-0600
TZOFFSETTO:-0500
TZNAME:CDT
DTSTART:20260308T080000
END:DAYLIGHT
BEGIN:STANDARD
TZOFFSETFROM:-0500
TZOFFSETTO:-0600
TZNAME:CST
DTSTART:20261101T070000
END:STANDARD
END:VTIMEZONE
BEGIN:VEVENT
DTSTART;TZID=America/Chicago:20250709T163000
DTEND;TZID=America/Chicago:20250709T190000
DTSTAMP:20260421T000136
CREATED:20250828T142218Z
LAST-MODIFIED:20251112T150956Z
UID:10000356-1752078600-1752087600@www.cwa4502.org
SUMMARY:Membership Meeting
DESCRIPTION:Membership meetings are an important way to communicate within our local. We use these meetings to provide updates about what is happening in their local. We share information on new benefits\, upcoming social activities\, and ways to get involved with your union. When it comes time for contract negotiations\, membership meetings are the place to share your ideas for what you want to see in the next contract. \nFind this meeting’s agenda\, virtual option information\, and past minutes on the Membership Meeting webpage. \n4:30 p.m. – Social hour with hor d’oeuvres\n5:30 p.m. – Meeting begins
URL:https://www.cwa4502.org/event/membership-meeting/2025-07-09/
LOCATION:CWA Local 4502\, 399 E. Main St. Suite 200\, Columbus\, OH\, 43215\, United States
CATEGORIES:Membership Meetings
ATTACH;FMTTYPE=image/png:https://www.cwa4502.org/wp-content/uploads/2025/08/CWA-Local-4502.png
END:VEVENT
BEGIN:VEVENT
DTSTART;VALUE=DATE:20250704
DTEND;VALUE=DATE:20250705
DTSTAMP:20260421T000136
CREATED:20250828T152740Z
LAST-MODIFIED:20250828T152915Z
UID:10000475-1751587200-1751673599@www.cwa4502.org
SUMMARY:Independence Day (Union Hall Closed)
DESCRIPTION:
URL:https://www.cwa4502.org/event/independence-day-union-hall-closed/2025-07-04/
LOCATION:OH
CATEGORIES:Holidays
ATTACH;FMTTYPE=image/png:https://www.cwa4502.org/wp-content/uploads/2025/08/CWA-Local-4502_White.png
END:VEVENT
BEGIN:VEVENT
DTSTART;TZID=America/Chicago:20250626T163000
DTEND;TZID=America/Chicago:20250626T183000
DTSTAMP:20260421T000136
CREATED:20250828T143258Z
LAST-MODIFIED:20250828T143258Z
UID:10000401-1750955400-1750962600@www.cwa4502.org
SUMMARY:Board of Trustees Meeting
DESCRIPTION:Find Board of Trustees Minutes here. Minutes are uploaded for the previous month after approval by the Board of Trustees.
URL:https://www.cwa4502.org/event/board-of-trustees-meeting/2025-06-26/
LOCATION:OH
CATEGORIES:Board Meetings
ATTACH;FMTTYPE=image/png:https://www.cwa4502.org/wp-content/uploads/2025/08/CWA-Local-4502_White.png
END:VEVENT
BEGIN:VEVENT
DTSTART;VALUE=DATE:20250619
DTEND;VALUE=DATE:20250620
DTSTAMP:20260421T000136
CREATED:20250828T152842Z
LAST-MODIFIED:20250828T152842Z
UID:10000469-1750291200-1750377599@www.cwa4502.org
SUMMARY:Juneteenth (Union Hall Closed)
DESCRIPTION:
URL:https://www.cwa4502.org/event/juneteenth-union-hall-closed/2025-06-19/
LOCATION:OH
CATEGORIES:Holidays
END:VEVENT
BEGIN:VEVENT
DTSTART;TZID=America/Chicago:20250610T170000
DTEND;TZID=America/Chicago:20250610T200000
DTSTAMP:20260421T000136
CREATED:20250828T153022Z
LAST-MODIFIED:20250828T153047Z
UID:10000481-1749574800-1749585600@www.cwa4502.org
SUMMARY:NextGen Social: Tribute Tuesday Concert
DESCRIPTION:
URL:https://www.cwa4502.org/event/nextgen-social-tribute-tuesday-concert/
LOCATION:Bicentennial Park\, 233 S. Civic Center Dr.\, Columbus\, OH\, 43215\, United States
CATEGORIES:Committees,NextGen
ATTACH;FMTTYPE=image/png:https://www.cwa4502.org/wp-content/uploads/2025/08/CWA-Local-4502-NextGen.png
END:VEVENT
BEGIN:VEVENT
DTSTART;VALUE=DATE:20250526
DTEND;VALUE=DATE:20250527
DTSTAMP:20260421T000136
CREATED:20250828T153527Z
LAST-MODIFIED:20250828T153527Z
UID:10000484-1748217600-1748303999@www.cwa4502.org
SUMMARY:Memorial Day (Union Hall Closed)
DESCRIPTION:
URL:https://www.cwa4502.org/event/memorial-day-union-hall-closed/2025-05-26/
LOCATION:OH
CATEGORIES:Holidays
ATTACH;FMTTYPE=image/png:https://www.cwa4502.org/wp-content/uploads/2025/08/CWA-Local-4502_White.png
END:VEVENT
BEGIN:VEVENT
DTSTART;TZID=America/Chicago:20250522T163000
DTEND;TZID=America/Chicago:20250522T183000
DTSTAMP:20260421T000136
CREATED:20250828T143258Z
LAST-MODIFIED:20250828T143258Z
UID:10000400-1747931400-1747938600@www.cwa4502.org
SUMMARY:Board of Trustees Meeting
DESCRIPTION:Find Board of Trustees Minutes here. Minutes are uploaded for the previous month after approval by the Board of Trustees.
URL:https://www.cwa4502.org/event/board-of-trustees-meeting/2025-05-22/
LOCATION:OH
CATEGORIES:Board Meetings
ATTACH;FMTTYPE=image/png:https://www.cwa4502.org/wp-content/uploads/2025/08/CWA-Local-4502_White.png
END:VEVENT
BEGIN:VEVENT
DTSTART;TZID=America/Chicago:20250514T163000
DTEND;TZID=America/Chicago:20250514T190000
DTSTAMP:20260421T000136
CREATED:20250828T142218Z
LAST-MODIFIED:20251112T150956Z
UID:10000355-1747240200-1747249200@www.cwa4502.org
SUMMARY:Membership Meeting
DESCRIPTION:Membership meetings are an important way to communicate within our local. We use these meetings to provide updates about what is happening in their local. We share information on new benefits\, upcoming social activities\, and ways to get involved with your union. When it comes time for contract negotiations\, membership meetings are the place to share your ideas for what you want to see in the next contract. \nFind this meeting’s agenda\, virtual option information\, and past minutes on the Membership Meeting webpage. \n4:30 p.m. – Social hour with hor d’oeuvres\n5:30 p.m. – Meeting begins
URL:https://www.cwa4502.org/event/membership-meeting/2025-05-14/
LOCATION:CWA Local 4502\, 399 E. Main St. Suite 200\, Columbus\, OH\, 43215\, United States
CATEGORIES:Membership Meetings
ATTACH;FMTTYPE=image/png:https://www.cwa4502.org/wp-content/uploads/2025/08/CWA-Local-4502.png
END:VEVENT
BEGIN:VEVENT
DTSTART;VALUE=DATE:20250506
DTEND;VALUE=DATE:20250507
DTSTAMP:20260421T000136
CREATED:20250910T145134Z
LAST-MODIFIED:20250910T145134Z
UID:10000525-1746489600-1746575999@www.cwa4502.org
SUMMARY:Primary Election Day
DESCRIPTION:Find Your Polling Place
URL:https://www.cwa4502.org/event/primary-election-day/2025-05-06/
LOCATION:OH
CATEGORIES:Committees,Legislative-Political
ATTACH;FMTTYPE=image/png:https://www.cwa4502.org/wp-content/uploads/2025/08/CWA-Local-4502.png
END:VEVENT
BEGIN:VEVENT
DTSTART;TZID=America/Chicago:20250424T163000
DTEND;TZID=America/Chicago:20250424T183000
DTSTAMP:20260421T000136
CREATED:20250828T143258Z
LAST-MODIFIED:20250828T143258Z
UID:10000399-1745512200-1745519400@www.cwa4502.org
SUMMARY:Board of Trustees Meeting
DESCRIPTION:Find Board of Trustees Minutes here. Minutes are uploaded for the previous month after approval by the Board of Trustees.
URL:https://www.cwa4502.org/event/board-of-trustees-meeting/2025-04-24/
LOCATION:OH
CATEGORIES:Board Meetings
ATTACH;FMTTYPE=image/png:https://www.cwa4502.org/wp-content/uploads/2025/08/CWA-Local-4502_White.png
END:VEVENT
BEGIN:VEVENT
DTSTART;VALUE=DATE:20250410
DTEND;VALUE=DATE:20250611
DTSTAMP:20260421T000136
CREATED:20250828T153322Z
LAST-MODIFIED:20250828T153322Z
UID:10000482-1744243200-1749599999@www.cwa4502.org
SUMMARY:Peanut Butter & Jelly Food Drive
DESCRIPTION:Your District 4 Human Rights Committee invites all members of CWA 4502 to help our community by donating peanut butter and jelly to take to the Mid-Ohio Food Collective. Bring donations to the Member Meeting on May 14\, drop off at the union hall\, give to your CWA department representative\, or contact Cindy Krebs at 614-645-2227 to arrange for pickup. We will collect starting now through June 8.
URL:https://www.cwa4502.org/event/peanut-butter-jelly-food-drive/
LOCATION:OH
CATEGORIES:Committees,Human Rights
ATTACH;FMTTYPE=image/png:https://www.cwa4502.org/wp-content/uploads/2025/08/CWA-Human-Rights.png
END:VEVENT
BEGIN:VEVENT
DTSTART;TZID=America/Chicago:20250327T163000
DTEND;TZID=America/Chicago:20250327T183000
DTSTAMP:20260421T000136
CREATED:20250828T143258Z
LAST-MODIFIED:20250828T143258Z
UID:10000398-1743093000-1743100200@www.cwa4502.org
SUMMARY:Board of Trustees Meeting
DESCRIPTION:Find Board of Trustees Minutes here. Minutes are uploaded for the previous month after approval by the Board of Trustees.
URL:https://www.cwa4502.org/event/board-of-trustees-meeting/2025-03-27/
LOCATION:OH
CATEGORIES:Board Meetings
ATTACH;FMTTYPE=image/png:https://www.cwa4502.org/wp-content/uploads/2025/08/CWA-Local-4502_White.png
END:VEVENT
BEGIN:VEVENT
DTSTART;TZID=America/Chicago:20250312T163000
DTEND;TZID=America/Chicago:20250312T190000
DTSTAMP:20260421T000136
CREATED:20250828T142218Z
LAST-MODIFIED:20251112T150956Z
UID:10000354-1741797000-1741806000@www.cwa4502.org
SUMMARY:Membership Meeting
DESCRIPTION:Membership meetings are an important way to communicate within our local. We use these meetings to provide updates about what is happening in their local. We share information on new benefits\, upcoming social activities\, and ways to get involved with your union. When it comes time for contract negotiations\, membership meetings are the place to share your ideas for what you want to see in the next contract. \nFind this meeting’s agenda\, virtual option information\, and past minutes on the Membership Meeting webpage. \n4:30 p.m. – Social hour with hor d’oeuvres\n5:30 p.m. – Meeting begins
URL:https://www.cwa4502.org/event/membership-meeting/2025-03-12/
LOCATION:CWA Local 4502\, 399 E. Main St. Suite 200\, Columbus\, OH\, 43215\, United States
CATEGORIES:Membership Meetings
ATTACH;FMTTYPE=image/png:https://www.cwa4502.org/wp-content/uploads/2025/08/CWA-Local-4502.png
END:VEVENT
BEGIN:VEVENT
DTSTART;TZID=America/Chicago:20250227T163000
DTEND;TZID=America/Chicago:20250227T183000
DTSTAMP:20260421T000136
CREATED:20250828T143258Z
LAST-MODIFIED:20250828T143258Z
UID:10000397-1740673800-1740681000@www.cwa4502.org
SUMMARY:Board of Trustees Meeting
DESCRIPTION:Find Board of Trustees Minutes here. Minutes are uploaded for the previous month after approval by the Board of Trustees.
URL:https://www.cwa4502.org/event/board-of-trustees-meeting/2025-02-27/
LOCATION:OH
CATEGORIES:Board Meetings
ATTACH;FMTTYPE=image/png:https://www.cwa4502.org/wp-content/uploads/2025/08/CWA-Local-4502_White.png
END:VEVENT
BEGIN:VEVENT
DTSTART;VALUE=DATE:20250217
DTEND;VALUE=DATE:20250218
DTSTAMP:20260421T000136
CREATED:20250828T153752Z
LAST-MODIFIED:20250828T153752Z
UID:10000491-1739750400-1739836799@www.cwa4502.org
SUMMARY:Presidents' Day (Union Hall Closed)
DESCRIPTION:
URL:https://www.cwa4502.org/event/presidents-day-union-hall-closed/2025-02-17/
LOCATION:OH
CATEGORIES:Holidays
ATTACH;FMTTYPE=image/png:https://www.cwa4502.org/wp-content/uploads/2025/08/CWA-Local-4502_White.png
END:VEVENT
BEGIN:VEVENT
DTSTART;TZID=America/Chicago:20250123T163000
DTEND;TZID=America/Chicago:20250123T183000
DTSTAMP:20260421T000136
CREATED:20250828T143258Z
LAST-MODIFIED:20250828T143258Z
UID:10000396-1737649800-1737657000@www.cwa4502.org
SUMMARY:Board of Trustees Meeting
DESCRIPTION:Find Board of Trustees Minutes here. Minutes are uploaded for the previous month after approval by the Board of Trustees.
URL:https://www.cwa4502.org/event/board-of-trustees-meeting/2025-01-23/
LOCATION:OH
CATEGORIES:Board Meetings
ATTACH;FMTTYPE=image/png:https://www.cwa4502.org/wp-content/uploads/2025/08/CWA-Local-4502_White.png
END:VEVENT
BEGIN:VEVENT
DTSTART;VALUE=DATE:20250120
DTEND;VALUE=DATE:20250121
DTSTAMP:20260421T000136
CREATED:20250828T153910Z
LAST-MODIFIED:20250828T153910Z
UID:10000498-1737331200-1737417599@www.cwa4502.org
SUMMARY:Martin Luther King Jr. Day (Union Hall Closed)
DESCRIPTION:
URL:https://www.cwa4502.org/event/martin-luther-king-jr-day-union-hall-closed/2025-01-20/
LOCATION:OH
CATEGORIES:Holidays
ATTACH;FMTTYPE=image/png:https://www.cwa4502.org/wp-content/uploads/2025/08/CWA-Local-4502_White.png
END:VEVENT
BEGIN:VEVENT
DTSTART;VALUE=DATE:20250101
DTEND;VALUE=DATE:20250102
DTSTAMP:20260421T000136
CREATED:20250828T153953Z
LAST-MODIFIED:20250828T153953Z
UID:10000505-1735689600-1735775999@www.cwa4502.org
SUMMARY:New Year's Day (Union Hall Closed)
DESCRIPTION:
URL:https://www.cwa4502.org/event/new-years-day-union-hall-closed/2025-01-01/
LOCATION:OH
CATEGORIES:Holidays
ATTACH;FMTTYPE=image/png:https://www.cwa4502.org/wp-content/uploads/2025/08/CWA-Local-4502_White.png
END:VEVENT
BEGIN:VEVENT
DTSTART;TZID=America/Chicago:20241226T163000
DTEND;TZID=America/Chicago:20241226T183000
DTSTAMP:20260421T000136
CREATED:20250828T143258Z
LAST-MODIFIED:20250828T143258Z
UID:10000395-1735230600-1735237800@www.cwa4502.org
SUMMARY:Board of Trustees Meeting
DESCRIPTION:Find Board of Trustees Minutes here. Minutes are uploaded for the previous month after approval by the Board of Trustees.
URL:https://www.cwa4502.org/event/board-of-trustees-meeting/2024-12-26/
LOCATION:OH
CATEGORIES:Board Meetings
ATTACH;FMTTYPE=image/png:https://www.cwa4502.org/wp-content/uploads/2025/08/CWA-Local-4502_White.png
END:VEVENT
BEGIN:VEVENT
DTSTART;VALUE=DATE:20241225
DTEND;VALUE=DATE:20241226
DTSTAMP:20260421T000136
CREATED:20250828T134453Z
LAST-MODIFIED:20250828T140444Z
UID:10000141-1735084800-1735171199@www.cwa4502.org
SUMMARY:Christmas Day (Union Hall Closed)
DESCRIPTION:
URL:https://www.cwa4502.org/event/christmas-day-union-hall-closed/2024-12-25/
LOCATION:OH
CATEGORIES:Holidays
ATTACH;FMTTYPE=image/png:https://www.cwa4502.org/wp-content/uploads/2025/08/CWA-Local-4502_White.png
END:VEVENT
BEGIN:VEVENT
DTSTART;TZID=America/Chicago:20241219T170000
DTEND;TZID=America/Chicago:20241219T210000
DTSTAMP:20260421T000136
CREATED:20250828T155136Z
LAST-MODIFIED:20250828T155136Z
UID:10000511-1734627600-1734642000@www.cwa4502.org
SUMMARY:2024 Holiday Party
DESCRIPTION:Dear Members\, \nI’m excited to invite each of you to our annual CWA Local 4502 Holiday Party! Join us as we wrap up another year together with a festive evening of food\, fun\, and holiday cheer. \nThis year’s celebration will take place at the Columbus Brewing Beer Hall on Thursday\, December 19\, starting at 5:00 p.m. It’s the perfect opportunity to relax\, connect\, and enjoy some great food and door prizes! You’re welcome to bring one guest along\, so feel free to bring a loved one and share the evening with us. \nAs a way to give back this season\, we’ll hold a special drawing for those who bring in canned goods or donate to our virtual food drive. Your support in this effort means a lot\, and it’s a chance to make a difference for our community. Bring in canned goods or donate to the digital food drive to get entered into an extra raffle! One additional ticket for every 5 canned goods or $10 donated to the virtual food drive. \nPlease RSVP below by December 17 to help us prepare for a memorable night. We can’t wait to see you there! \nIn solidarity and celebration\,\nHugh Williams\, President\nCWA Local 4502
URL:https://www.cwa4502.org/event/2024-holiday-party/
LOCATION:Columbus Brewing Co. Beer Hall\, 200 Kelton Avenue\, Columbus\, OH\, 43205\, United States
CATEGORIES:Social Event
ATTACH;FMTTYPE=image/png:https://www.cwa4502.org/wp-content/uploads/2024/11/Holiday-Party-Homepage-Slider.png
END:VEVENT
BEGIN:VEVENT
DTSTART;TZID=America/Chicago:20241128T163000
DTEND;TZID=America/Chicago:20241128T183000
DTSTAMP:20260421T000136
CREATED:20250828T143258Z
LAST-MODIFIED:20250828T143258Z
UID:10000394-1732811400-1732818600@www.cwa4502.org
SUMMARY:Board of Trustees Meeting
DESCRIPTION:Find Board of Trustees Minutes here. Minutes are uploaded for the previous month after approval by the Board of Trustees.
URL:https://www.cwa4502.org/event/board-of-trustees-meeting/2024-11-28/
LOCATION:OH
CATEGORIES:Board Meetings
ATTACH;FMTTYPE=image/png:https://www.cwa4502.org/wp-content/uploads/2025/08/CWA-Local-4502_White.png
END:VEVENT
BEGIN:VEVENT
DTSTART;VALUE=DATE:20241128
DTEND;VALUE=DATE:20241129
DTSTAMP:20260421T000136
CREATED:20250828T135134Z
LAST-MODIFIED:20250828T140429Z
UID:10000171-1732752000-1732838399@www.cwa4502.org
SUMMARY:Thanksgiving Day (Union Hall Closed)
DESCRIPTION:
URL:https://www.cwa4502.org/event/thanksgiving-day-union-hall-closed/2024-11-28/
LOCATION:OH
CATEGORIES:Holidays
ATTACH;FMTTYPE=image/png:https://www.cwa4502.org/wp-content/uploads/2025/08/CWA-Local-4502_White.png
END:VEVENT
BEGIN:VEVENT
DTSTART;TZID=America/Chicago:20241113T163000
DTEND;TZID=America/Chicago:20241113T190000
DTSTAMP:20260421T000136
CREATED:20250828T142218Z
LAST-MODIFIED:20251112T150956Z
UID:10000353-1731515400-1731524400@www.cwa4502.org
SUMMARY:Membership Meeting
DESCRIPTION:Membership meetings are an important way to communicate within our local. We use these meetings to provide updates about what is happening in their local. We share information on new benefits\, upcoming social activities\, and ways to get involved with your union. When it comes time for contract negotiations\, membership meetings are the place to share your ideas for what you want to see in the next contract. \nFind this meeting’s agenda\, virtual option information\, and past minutes on the Membership Meeting webpage. \n4:30 p.m. – Social hour with hor d’oeuvres\n5:30 p.m. – Meeting begins
URL:https://www.cwa4502.org/event/membership-meeting/2024-11-13/
LOCATION:CWA Local 4502\, 399 E. Main St. Suite 200\, Columbus\, OH\, 43215\, United States
CATEGORIES:Membership Meetings
ATTACH;FMTTYPE=image/png:https://www.cwa4502.org/wp-content/uploads/2025/08/CWA-Local-4502.png
END:VEVENT
BEGIN:VEVENT
DTSTART;VALUE=DATE:20241111
DTEND;VALUE=DATE:20241112
DTSTAMP:20260421T000136
CREATED:20250828T135847Z
LAST-MODIFIED:20250828T140404Z
UID:10000170-1731283200-1731369599@www.cwa4502.org
SUMMARY:Veterans Day (Union Hall Closed)
DESCRIPTION:
URL:https://www.cwa4502.org/event/veterans-day-union-hall-closed/2024-11-11/
LOCATION:OH
CATEGORIES:Holidays
ATTACH;FMTTYPE=image/png:https://www.cwa4502.org/wp-content/uploads/2025/08/CWA-Local-4502_White.png
END:VEVENT
BEGIN:VEVENT
DTSTART;TZID=America/Chicago:20241024T163000
DTEND;TZID=America/Chicago:20241024T183000
DTSTAMP:20260421T000136
CREATED:20250828T143258Z
LAST-MODIFIED:20250828T143258Z
UID:10000393-1729787400-1729794600@www.cwa4502.org
SUMMARY:Board of Trustees Meeting
DESCRIPTION:Find Board of Trustees Minutes here. Minutes are uploaded for the previous month after approval by the Board of Trustees.
URL:https://www.cwa4502.org/event/board-of-trustees-meeting/2024-10-24/
LOCATION:OH
CATEGORIES:Board Meetings
ATTACH;FMTTYPE=image/png:https://www.cwa4502.org/wp-content/uploads/2025/08/CWA-Local-4502_White.png
END:VEVENT
BEGIN:VEVENT
DTSTART;VALUE=DATE:20241014
DTEND;VALUE=DATE:20241015
DTSTAMP:20260421T000136
CREATED:20250828T140159Z
LAST-MODIFIED:20250828T140349Z
UID:10000169-1728864000-1728950399@www.cwa4502.org
SUMMARY:Indigenous Peoples’ Day (Union Hall Closed)
DESCRIPTION:
URL:https://www.cwa4502.org/event/indigenous-peoples-day-union-hall-closed/2024-10-14/
LOCATION:OH
CATEGORIES:Holidays
ATTACH;FMTTYPE=image/png:https://www.cwa4502.org/wp-content/uploads/2025/08/CWA-Local-4502_White.png
END:VEVENT
BEGIN:VEVENT
DTSTART;TZID=America/Chicago:20240926T163000
DTEND;TZID=America/Chicago:20240926T183000
DTSTAMP:20260421T000136
CREATED:20250828T143258Z
LAST-MODIFIED:20250828T143258Z
UID:10000392-1727368200-1727375400@www.cwa4502.org
SUMMARY:Board of Trustees Meeting
DESCRIPTION:Find Board of Trustees Minutes here. Minutes are uploaded for the previous month after approval by the Board of Trustees.
URL:https://www.cwa4502.org/event/board-of-trustees-meeting/2024-09-26/
LOCATION:OH
CATEGORIES:Board Meetings
ATTACH;FMTTYPE=image/png:https://www.cwa4502.org/wp-content/uploads/2025/08/CWA-Local-4502_White.png
END:VEVENT
BEGIN:VEVENT
DTSTART;TZID=America/Chicago:20240911T163000
DTEND;TZID=America/Chicago:20240911T190000
DTSTAMP:20260421T000136
CREATED:20250828T142218Z
LAST-MODIFIED:20251112T150956Z
UID:10000352-1726072200-1726081200@www.cwa4502.org
SUMMARY:Membership Meeting
DESCRIPTION:Membership meetings are an important way to communicate within our local. We use these meetings to provide updates about what is happening in their local. We share information on new benefits\, upcoming social activities\, and ways to get involved with your union. When it comes time for contract negotiations\, membership meetings are the place to share your ideas for what you want to see in the next contract. \nFind this meeting’s agenda\, virtual option information\, and past minutes on the Membership Meeting webpage. \n4:30 p.m. – Social hour with hor d’oeuvres\n5:30 p.m. – Meeting begins
URL:https://www.cwa4502.org/event/membership-meeting/2024-09-11/
LOCATION:CWA Local 4502\, 399 E. Main St. Suite 200\, Columbus\, OH\, 43215\, United States
CATEGORIES:Membership Meetings
ATTACH;FMTTYPE=image/png:https://www.cwa4502.org/wp-content/uploads/2025/08/CWA-Local-4502.png
END:VEVENT
BEGIN:VEVENT
DTSTART;VALUE=DATE:20240902
DTEND;VALUE=DATE:20240903
DTSTAMP:20260421T000136
CREATED:20250828T140246Z
LAST-MODIFIED:20250828T140335Z
UID:10000168-1725235200-1725321599@www.cwa4502.org
SUMMARY:Labor Day (Union Hall Closed)
DESCRIPTION:
URL:https://www.cwa4502.org/event/labor-day-union-hall-closed/2024-09-02/
LOCATION:OH
CATEGORIES:Holidays
ATTACH;FMTTYPE=image/png:https://www.cwa4502.org/wp-content/uploads/2025/08/CWA-Local-4502_White.png
END:VEVENT
END:VCALENDAR