BEGIN:VCALENDAR
VERSION:2.0
PRODID:-//CWA 4502 - ECPv6.15.20//NONSGML v1.0//EN
CALSCALE:GREGORIAN
METHOD:PUBLISH
X-ORIGINAL-URL:https://www.cwa4502.org
X-WR-CALDESC:Events for CWA 4502
REFRESH-INTERVAL;VALUE=DURATION:PT1H
X-Robots-Tag:noindex
X-PUBLISHED-TTL:PT1H
BEGIN:VTIMEZONE
TZID:America/Chicago
BEGIN:DAYLIGHT
TZOFFSETFROM:-0600
TZOFFSETTO:-0500
TZNAME:CDT
DTSTART:20240310T080000
END:DAYLIGHT
BEGIN:STANDARD
TZOFFSETFROM:-0500
TZOFFSETTO:-0600
TZNAME:CST
DTSTART:20241103T070000
END:STANDARD
BEGIN:DAYLIGHT
TZOFFSETFROM:-0600
TZOFFSETTO:-0500
TZNAME:CDT
DTSTART:20250309T080000
END:DAYLIGHT
BEGIN:STANDARD
TZOFFSETFROM:-0500
TZOFFSETTO:-0600
TZNAME:CST
DTSTART:20251102T070000
END:STANDARD
BEGIN:DAYLIGHT
TZOFFSETFROM:-0600
TZOFFSETTO:-0500
TZNAME:CDT
DTSTART:20260308T080000
END:DAYLIGHT
BEGIN:STANDARD
TZOFFSETFROM:-0500
TZOFFSETTO:-0600
TZNAME:CST
DTSTART:20261101T070000
END:STANDARD
BEGIN:DAYLIGHT
TZOFFSETFROM:-0600
TZOFFSETTO:-0500
TZNAME:CDT
DTSTART:20270314T080000
END:DAYLIGHT
BEGIN:STANDARD
TZOFFSETFROM:-0500
TZOFFSETTO:-0600
TZNAME:CST
DTSTART:20271107T070000
END:STANDARD
END:VTIMEZONE
BEGIN:VEVENT
DTSTART;TZID=America/Chicago:20250820T173000
DTEND;TZID=America/Chicago:20250820T190000
DTSTAMP:20260420T213621
CREATED:20250828T142709Z
LAST-MODIFIED:20250828T142804Z
UID:10000382-1755711000-1755716400@www.cwa4502.org
SUMMARY:Central Ohio Labor Council\, AFL-CIO Labor Day Picnic
DESCRIPTION:Visit the event website to RSVP so they can get a headcount for food.
URL:https://www.cwa4502.org/event/central-ohio-labor-council-afl-cio-labor-day-picnic/
LOCATION:Wolfe Park Shelterhouse\, 105 Park Dr\, Columbus\, OH\, 43209\, United States
CATEGORIES:Social Event
ATTACH;FMTTYPE=image/png:https://www.cwa4502.org/wp-content/uploads/2025/08/Central-Ohio-Labor-Council-1.png
END:VEVENT
BEGIN:VEVENT
DTSTART;VALUE=DATE:20250821
DTEND;VALUE=DATE:20251004
DTSTAMP:20260420T213621
CREATED:20250901T233849Z
LAST-MODIFIED:20250901T233849Z
UID:10000514-1755734400-1759535999@www.cwa4502.org
SUMMARY:Foster Care Suitcase Drive
DESCRIPTION:The CWA District 4 and CWA Local 4502 Human Rights Committees are excited to announce a Foster Care Suitcase Drive that is running now until Oct. 3! Many of the children in foster care are sent have to carry their items in trash bags when they move homes and we would like to change that for as many kids as we can. We are asking for new or gently worn suitcases\, bags\, blankets\, books and toys to donate to these kids in our community. \nOur next member meeting on Sept. 10 will be the perfect time to bring in your items\, or items can be dropped off at the Union Hall at any time during the drive. Members who bring in an item to the member meeting on Sept. 10 will be entered into a drawing for a special gift card.
URL:https://www.cwa4502.org/event/foster-care-suitcase-drive/
LOCATION:OH
CATEGORIES:Committees,Human Rights
ATTACH;FMTTYPE=image/png:https://www.cwa4502.org/wp-content/uploads/2025/08/CWA-Human-Rights.png
END:VEVENT
BEGIN:VEVENT
DTSTART;TZID=America/Chicago:20250828T163000
DTEND;TZID=America/Chicago:20250828T183000
DTSTAMP:20260420T213621
CREATED:20250828T143258Z
LAST-MODIFIED:20250828T143258Z
UID:10000403-1756398600-1756405800@www.cwa4502.org
SUMMARY:Board of Trustees Meeting
DESCRIPTION:Find Board of Trustees Minutes here. Minutes are uploaded for the previous month after approval by the Board of Trustees.
URL:https://www.cwa4502.org/event/board-of-trustees-meeting/2025-08-28/
LOCATION:OH
CATEGORIES:Board Meetings
ATTACH;FMTTYPE=image/png:https://www.cwa4502.org/wp-content/uploads/2025/08/CWA-Local-4502_White.png
END:VEVENT
BEGIN:VEVENT
DTSTART;VALUE=DATE:20250901
DTEND;VALUE=DATE:20250902
DTSTAMP:20260420T213621
CREATED:20250828T140246Z
LAST-MODIFIED:20250828T140335Z
UID:10000163-1756684800-1756771199@www.cwa4502.org
SUMMARY:Labor Day (Union Hall Closed)
DESCRIPTION:
URL:https://www.cwa4502.org/event/labor-day-union-hall-closed/2025-09-01/
LOCATION:OH
CATEGORIES:Holidays
ATTACH;FMTTYPE=image/png:https://www.cwa4502.org/wp-content/uploads/2025/08/CWA-Local-4502_White.png
END:VEVENT
BEGIN:VEVENT
DTSTART;TZID=America/Chicago:20250903T184500
DTEND;TZID=America/Chicago:20250903T194500
DTSTAMP:20260420T213621
CREATED:20250828T195204Z
LAST-MODIFIED:20250828T195205Z
UID:10000004-1756925100-1756928700@www.cwa4502.org
SUMMARY:NextGen Committee Meeting
DESCRIPTION:
URL:https://www.cwa4502.org/event/nextgen-meetings-2/
LOCATION:https://www.cwa4502.org/event/nextgen-meetings-2/
CATEGORIES:Committees,NextGen
ATTACH;FMTTYPE=image/png:https://www.cwa4502.org/wp-content/uploads/2025/08/CWA-Local-4502-NextGen.png
END:VEVENT
BEGIN:VEVENT
DTSTART;TZID=America/Chicago:20250910T163000
DTEND;TZID=America/Chicago:20250910T190000
DTSTAMP:20260420T213621
CREATED:20250828T142218Z
LAST-MODIFIED:20251112T150956Z
UID:10000357-1757521800-1757530800@www.cwa4502.org
SUMMARY:Membership Meeting
DESCRIPTION:Membership meetings are an important way to communicate within our local. We use these meetings to provide updates about what is happening in their local. We share information on new benefits\, upcoming social activities\, and ways to get involved with your union. When it comes time for contract negotiations\, membership meetings are the place to share your ideas for what you want to see in the next contract. \nFind this meeting’s agenda\, virtual option information\, and past minutes on the Membership Meeting webpage. \n4:30 p.m. – Social hour with hor d’oeuvres\n5:30 p.m. – Meeting begins
URL:https://www.cwa4502.org/event/membership-meeting/2025-09-10/
LOCATION:CWA Local 4502\, 399 E. Main St. Suite 200\, Columbus\, OH\, 43215\, United States
CATEGORIES:Membership Meetings
ATTACH;FMTTYPE=image/png:https://www.cwa4502.org/wp-content/uploads/2025/08/CWA-Local-4502.png
END:VEVENT
BEGIN:VEVENT
DTSTART;TZID=America/Chicago:20250917T103000
DTEND;TZID=America/Chicago:20250917T123000
DTSTAMP:20260420T213621
CREATED:20250910T150149Z
LAST-MODIFIED:20250910T150553Z
UID:10000531-1758105000-1758112200@www.cwa4502.org
SUMMARY:Fair Districts' 2025 Fair Maps Day
DESCRIPTION:As Ohio politicians begin redrawing the congressional map\, we’re coming together with voters from every U.S. Congressional District in the Buckeye State to raise our voices in support of fair maps! \nJoin us for a nonpartisan press conference\, inspiring speakers\, games\, mapping demonstrations\, and a chance to see your favorite redistricting reformers. \nSport your Fair Districts Ohio gear\, bring your friends\, and wear your comfortable walking shoes\, as we’ll be marching around the Ohio Statehouse. \nPlease RSVP to attend.
URL:https://www.cwa4502.org/event/fair-districts-2025-fair-maps-day/
LOCATION:Trinity Episcopal Church\, 125 E. BROAD ST.\, Columbus\, OH\, 43202
CATEGORIES:Legislative-Political
ATTACH;FMTTYPE=image/png:https://www.cwa4502.org/wp-content/uploads/2025/08/Central-Ohio-Labor-Council-1.png
END:VEVENT
BEGIN:VEVENT
DTSTART;TZID=America/Chicago:20250920T193000
DTEND;TZID=America/Chicago:20250920T223000
DTSTAMP:20260420T213621
CREATED:20250828T185719Z
LAST-MODIFIED:20250910T151734Z
UID:10000512-1758396600-1758407400@www.cwa4502.org
SUMMARY:Labor Night with The Columbus Crew
DESCRIPTION:
URL:https://www.cwa4502.org/event/labor-night-with-the-columbus-crew/
LOCATION:Lower.com Field\, 96 Columbus Crew Way\, Columbus\, OH\, 43215\, United States
CATEGORIES:Social Event
ATTACH;FMTTYPE=image/png:https://www.cwa4502.org/wp-content/uploads/2025/08/Central-Ohio-Labor-Council-1.png
END:VEVENT
BEGIN:VEVENT
DTSTART;TZID=America/Chicago:20250925T163000
DTEND;TZID=America/Chicago:20250925T183000
DTSTAMP:20260420T213621
CREATED:20250828T143258Z
LAST-MODIFIED:20250828T143258Z
UID:10000404-1758817800-1758825000@www.cwa4502.org
SUMMARY:Board of Trustees Meeting
DESCRIPTION:Find Board of Trustees Minutes here. Minutes are uploaded for the previous month after approval by the Board of Trustees.
URL:https://www.cwa4502.org/event/board-of-trustees-meeting/2025-09-25/
LOCATION:OH
CATEGORIES:Board Meetings
ATTACH;FMTTYPE=image/png:https://www.cwa4502.org/wp-content/uploads/2025/08/CWA-Local-4502_White.png
END:VEVENT
BEGIN:VEVENT
DTSTART;TZID=America/Chicago:20251001T170000
DTEND;TZID=America/Chicago:20251001T230000
DTSTAMP:20260420T213621
CREATED:20250828T193543Z
LAST-MODIFIED:20250828T193920Z
UID:10000513-1759338000-1759359600@www.cwa4502.org
SUMMARY:Christmas Cares\, Unions Share Movie Night Fundraiser
DESCRIPTION:Join the Central Ohio Labor Council\, AFL-CIO\, for Christmas Cares\, Unions Share Movie Night Fundraiser at the South High Drive-In. A suggested donation of $50 per car is requested. Drive In Flyer.
URL:https://www.cwa4502.org/event/christmas-cares-unions-share-movie-night-fundraiser/
LOCATION:South High Drive-In\, 3050 S. High St\, Columbus\, OH\, 43207\, United States
CATEGORIES:Social Event
ATTACH;FMTTYPE=image/png:https://www.cwa4502.org/wp-content/uploads/2025/08/Central-Ohio-Labor-Council-1.png
END:VEVENT
BEGIN:VEVENT
DTSTART;TZID=America/Chicago:20251001T173000
DTEND;TZID=America/Chicago:20251001T183000
DTSTAMP:20260420T213621
CREATED:20250819T201805Z
LAST-MODIFIED:20260107T223451Z
UID:10000540-1759339800-1759343400@www.cwa4502.org
SUMMARY:NextGen Committee Meeting
DESCRIPTION:
URL:https://www.cwa4502.org/event/nextgen-meetings/2025-10-01/
LOCATION:https://www.cwa4502.org/event/nextgen-meetings/2025-10-01/
CATEGORIES:Committees,NextGen
ATTACH;FMTTYPE=image/png:https://www.cwa4502.org/wp-content/uploads/2025/08/CWA-Local-4502-NextGen.png
END:VEVENT
BEGIN:VEVENT
DTSTART;VALUE=DATE:20251013
DTEND;VALUE=DATE:20251014
DTSTAMP:20260420T213621
CREATED:20250828T140159Z
LAST-MODIFIED:20250828T140349Z
UID:10000158-1760313600-1760399999@www.cwa4502.org
SUMMARY:Indigenous Peoples’ Day (Union Hall Closed)
DESCRIPTION:
URL:https://www.cwa4502.org/event/indigenous-peoples-day-union-hall-closed/2025-10-13/
LOCATION:OH
CATEGORIES:Holidays
ATTACH;FMTTYPE=image/png:https://www.cwa4502.org/wp-content/uploads/2025/08/CWA-Local-4502_White.png
END:VEVENT
BEGIN:VEVENT
DTSTART;TZID=America/Chicago:20251015T173000
DTEND;TZID=America/Chicago:20251015T200000
DTSTAMP:20260420T213621
CREATED:20250910T151636Z
LAST-MODIFIED:20250910T151636Z
UID:10000532-1760549400-1760558400@www.cwa4502.org
SUMMARY:Central Ohio Labor Council Meet the Candidates
DESCRIPTION:Meet the local endorsed candidates of the Central Ohio Labor Council\, AFL-CIO. \nPlease RSVP by Oct. 9\, 2025.
URL:https://www.cwa4502.org/event/central-ohio-labor-council-meet-the-candidates/
LOCATION:Columbus Firefighters Local 67\, 379 W. Broad St.\, Columbus\, OH\, 43215\, United States
CATEGORIES:Committees,Legislative-Political
ATTACH;FMTTYPE=image/png:https://www.cwa4502.org/wp-content/uploads/2025/08/Central-Ohio-Labor-Council-1.png
END:VEVENT
BEGIN:VEVENT
DTSTART;TZID=America/Chicago:20251016T163000
DTEND;TZID=America/Chicago:20251016T183000
DTSTAMP:20260420T213621
CREATED:20251016T164824Z
LAST-MODIFIED:20251016T164833Z
UID:10000405-1760632200-1760639400@www.cwa4502.org
SUMMARY:Board of Trustees Meeting
DESCRIPTION:Find Board of Trustees Minutes here. Minutes are uploaded for the previous month after approval by the Board of Trustees.
URL:https://www.cwa4502.org/event/board-of-trustees-meeting-3/
LOCATION:OH
CATEGORIES:Board Meetings
ATTACH;FMTTYPE=image/png:https://www.cwa4502.org/wp-content/uploads/2025/08/CWA-Local-4502_White.png
END:VEVENT
BEGIN:VEVENT
DTSTART;VALUE=DATE:20251024
DTEND;VALUE=DATE:20251213
DTSTAMP:20260420T213621
CREATED:20251025T184814Z
LAST-MODIFIED:20251025T184814Z
UID:10000534-1761264000-1765583999@www.cwa4502.org
SUMMARY:Coat\, Clothing\, and Toiletry Drive for the Miracle on Long Street Holiday Giveaway
DESCRIPTION:
URL:https://www.cwa4502.org/event/coat-clothing-and-toiletry-drive-for-the-miracle-on-long-street-holiday-giveaway/
LOCATION:OH
CATEGORIES:Committees,Human Rights
ATTACH;FMTTYPE=image/png:https://www.cwa4502.org/wp-content/uploads/2025/08/CWA-Local-4502.png
END:VEVENT
BEGIN:VEVENT
DTSTART;VALUE=DATE:20251024
DTEND;VALUE=DATE:20251219
DTSTAMP:20260420T213621
CREATED:20251025T184857Z
LAST-MODIFIED:20251025T184857Z
UID:10000535-1761264000-1766102399@www.cwa4502.org
SUMMARY:Food Drive for the Mid-Ohio Food Collective
DESCRIPTION:
URL:https://www.cwa4502.org/event/food-drive-for-the-mid-ohio-food-collective/
LOCATION:OH
CATEGORIES:Committees,Human Rights
ATTACH;FMTTYPE=image/png:https://www.cwa4502.org/wp-content/uploads/2025/08/CWA-Local-4502.png
END:VEVENT
BEGIN:VEVENT
DTSTART;VALUE=DATE:20251104
DTEND;VALUE=DATE:20251105
DTSTAMP:20260420T213621
CREATED:20250910T144912Z
LAST-MODIFIED:20250910T145015Z
UID:10000515-1762214400-1762300799@www.cwa4502.org
SUMMARY:General Election Day
DESCRIPTION:Find Your Polling Place
URL:https://www.cwa4502.org/event/general-election-day/2025-11-04/
LOCATION:OH
CATEGORIES:Committees,Legislative-Political
ATTACH;FMTTYPE=image/png:https://www.cwa4502.org/wp-content/uploads/2025/08/CWA-Local-4502.png
END:VEVENT
BEGIN:VEVENT
DTSTART;TZID=America/Chicago:20251105T173000
DTEND;TZID=America/Chicago:20251105T183000
DTSTAMP:20260420T213621
CREATED:20250819T201805Z
LAST-MODIFIED:20260107T223451Z
UID:10000541-1762363800-1762367400@www.cwa4502.org
SUMMARY:NextGen Committee Meeting
DESCRIPTION:
URL:https://www.cwa4502.org/event/nextgen-meetings/2025-11-05/
LOCATION:https://www.cwa4502.org/event/nextgen-meetings/2025-11-05/
CATEGORIES:Committees,NextGen
ATTACH;FMTTYPE=image/png:https://www.cwa4502.org/wp-content/uploads/2025/08/CWA-Local-4502-NextGen.png
END:VEVENT
BEGIN:VEVENT
DTSTART;VALUE=DATE:20251111
DTEND;VALUE=DATE:20251112
DTSTAMP:20260420T213621
CREATED:20250828T135847Z
LAST-MODIFIED:20250828T140404Z
UID:10000153-1762819200-1762905599@www.cwa4502.org
SUMMARY:Veterans Day (Union Hall Closed)
DESCRIPTION:
URL:https://www.cwa4502.org/event/veterans-day-union-hall-closed/2025-11-11/
LOCATION:OH
CATEGORIES:Holidays
ATTACH;FMTTYPE=image/png:https://www.cwa4502.org/wp-content/uploads/2025/08/CWA-Local-4502_White.png
END:VEVENT
BEGIN:VEVENT
DTSTART;TZID=America/Chicago:20251112T163000
DTEND;TZID=America/Chicago:20251112T190000
DTSTAMP:20260420T213622
CREATED:20251112T151148Z
LAST-MODIFIED:20251112T151149Z
UID:10000358-1762965000-1762974000@www.cwa4502.org
SUMMARY:Membership Meeting
DESCRIPTION:Membership meetings are an important way to communicate within our local. We use these meetings to provide updates about what is happening in their local. We share information on new benefits\, upcoming social activities\, and ways to get involved with your union. When it comes time for contract negotiations\, membership meetings are the place to share your ideas for what you want to see in the next contract. \nFind this meeting’s agenda\, virtual option information\, and past minutes on the Membership Meeting webpage. \n4:30 p.m. – Social hour with hor d’oeuvres\n5:30 p.m. – Meeting begins \nVirtual Option RSVP
URL:https://www.cwa4502.org/event/membership-meeting-2/
LOCATION:CWA Local 4502\, 399 E. Main St. Suite 200\, Columbus\, OH\, 43215\, United States
CATEGORIES:Membership Meetings
ATTACH;FMTTYPE=image/png:https://www.cwa4502.org/wp-content/uploads/2025/08/CWA-Local-4502.png
END:VEVENT
BEGIN:VEVENT
DTSTART;TZID=America/Chicago:20251120T163000
DTEND;TZID=America/Chicago:20251120T183000
DTSTAMP:20260420T213622
CREATED:20251016T164839Z
LAST-MODIFIED:20251016T164848Z
UID:10000406-1763656200-1763663400@www.cwa4502.org
SUMMARY:Board of Trustees Meeting
DESCRIPTION:Find Board of Trustees Minutes here. Minutes are uploaded for the previous month after approval by the Board of Trustees.
URL:https://www.cwa4502.org/event/board-of-trustees-meeting-4/
LOCATION:OH
CATEGORIES:Board Meetings
ATTACH;FMTTYPE=image/png:https://www.cwa4502.org/wp-content/uploads/2025/08/CWA-Local-4502_White.png
END:VEVENT
BEGIN:VEVENT
DTSTART;VALUE=DATE:20251127
DTEND;VALUE=DATE:20251128
DTSTAMP:20260420T213622
CREATED:20250828T135134Z
LAST-MODIFIED:20250828T140429Z
UID:10000172-1764201600-1764287999@www.cwa4502.org
SUMMARY:Thanksgiving Day (Union Hall Closed)
DESCRIPTION:
URL:https://www.cwa4502.org/event/thanksgiving-day-union-hall-closed/2025-11-27/
LOCATION:OH
CATEGORIES:Holidays
ATTACH;FMTTYPE=image/png:https://www.cwa4502.org/wp-content/uploads/2025/08/CWA-Local-4502_White.png
END:VEVENT
BEGIN:VEVENT
DTSTART;TZID=America/Chicago:20251203T173000
DTEND;TZID=America/Chicago:20251203T183000
DTSTAMP:20260420T213622
CREATED:20250819T201805Z
LAST-MODIFIED:20260107T223451Z
UID:10000542-1764783000-1764786600@www.cwa4502.org
SUMMARY:NextGen Committee Meeting
DESCRIPTION:
URL:https://www.cwa4502.org/event/nextgen-meetings/2025-12-03/
LOCATION:https://www.cwa4502.org/event/nextgen-meetings/2025-12-03/
CATEGORIES:Committees,NextGen
ATTACH;FMTTYPE=image/png:https://www.cwa4502.org/wp-content/uploads/2025/08/CWA-Local-4502-NextGen.png
END:VEVENT
BEGIN:VEVENT
DTSTART;VALUE=DATE:20251215
DTEND;VALUE=DATE:20251222
DTSTAMP:20260420T213622
CREATED:20251025T185039Z
LAST-MODIFIED:20251025T185342Z
UID:10000536-1765756800-1766361599@www.cwa4502.org
SUMMARY:Christmas Cares / Union Shares
DESCRIPTION:
URL:https://www.cwa4502.org/event/christmas-cares-union-shares/
LOCATION:St. Steven’s Community House\, 1500 E 17th Ave\, Columbus\, OH\, 43219\, United States
CATEGORIES:Committees,Human Rights
ATTACH;FMTTYPE=image/png:https://www.cwa4502.org/wp-content/uploads/2025/08/Central-Ohio-Labor-Council-1.png
END:VEVENT
BEGIN:VEVENT
DTSTART;TZID=America/Chicago:20251218T163000
DTEND;TZID=America/Chicago:20251218T193000
DTSTAMP:20260420T213622
CREATED:20251112T201435Z
LAST-MODIFIED:20251119T150608Z
UID:10000539-1766075400-1766086200@www.cwa4502.org
SUMMARY:2026 Holiday Party
DESCRIPTION:Members and one guest are invited to CWA Local 4502’s Holiday Party! This is a time to come together from across all City departments to celebrate the holiday season. \nPlease RSVP by Sunday\, December 7. Visit the link to RSVP and get more information! \n 
URL:https://www.cwa4502.org/event/2026-holiday-party/
LOCATION:The Gallery at Champions\, 3900 Westerville Rd\, Columbus\, OH\, 43224\, United States
CATEGORIES:Social Event
ATTACH;FMTTYPE=image/png:https://www.cwa4502.org/wp-content/uploads/2025/08/CWA-Local-4502.png
END:VEVENT
BEGIN:VEVENT
DTSTART;VALUE=DATE:20251225
DTEND;VALUE=DATE:20251226
DTSTAMP:20260420T213622
CREATED:20250828T134453Z
LAST-MODIFIED:20250828T140444Z
UID:10000142-1766620800-1766707199@www.cwa4502.org
SUMMARY:Christmas Day (Union Hall Closed)
DESCRIPTION:
URL:https://www.cwa4502.org/event/christmas-day-union-hall-closed/2025-12-25/
LOCATION:OH
CATEGORIES:Holidays
ATTACH;FMTTYPE=image/png:https://www.cwa4502.org/wp-content/uploads/2025/08/CWA-Local-4502_White.png
END:VEVENT
BEGIN:VEVENT
DTSTART;VALUE=DATE:20260101
DTEND;VALUE=DATE:20260102
DTSTAMP:20260420T213622
CREATED:20250828T153953Z
LAST-MODIFIED:20250828T153953Z
UID:10000506-1767225600-1767311999@www.cwa4502.org
SUMMARY:New Year's Day (Union Hall Closed)
DESCRIPTION:
URL:https://www.cwa4502.org/event/new-years-day-union-hall-closed/2026-01-01/
LOCATION:OH
CATEGORIES:Holidays
ATTACH;FMTTYPE=image/png:https://www.cwa4502.org/wp-content/uploads/2025/08/CWA-Local-4502_White.png
END:VEVENT
BEGIN:VEVENT
DTSTART;TZID=America/Chicago:20260107T173000
DTEND;TZID=America/Chicago:20260107T183000
DTSTAMP:20260420T213622
CREATED:20250819T201805Z
LAST-MODIFIED:20260107T223451Z
UID:10000543-1767807000-1767810600@www.cwa4502.org
SUMMARY:NextGen Committee Meeting
DESCRIPTION:
URL:https://www.cwa4502.org/event/nextgen-meetings/2026-01-07/
LOCATION:https://www.cwa4502.org/event/nextgen-meetings/2026-01-07/
CATEGORIES:Committees,NextGen
ATTACH;FMTTYPE=image/png:https://www.cwa4502.org/wp-content/uploads/2025/08/CWA-Local-4502-NextGen.png
END:VEVENT
BEGIN:VEVENT
DTSTART;VALUE=DATE:20260119
DTEND;VALUE=DATE:20260120
DTSTAMP:20260420T213622
CREATED:20250828T153910Z
LAST-MODIFIED:20250828T153910Z
UID:10000499-1768780800-1768867199@www.cwa4502.org
SUMMARY:Martin Luther King Jr. Day (Union Hall Closed)
DESCRIPTION:
URL:https://www.cwa4502.org/event/martin-luther-king-jr-day-union-hall-closed/2026-01-19/
LOCATION:OH
CATEGORIES:Holidays
ATTACH;FMTTYPE=image/png:https://www.cwa4502.org/wp-content/uploads/2025/08/CWA-Local-4502_White.png
END:VEVENT
BEGIN:VEVENT
DTSTART;TZID=America/Chicago:20260122T163000
DTEND;TZID=America/Chicago:20260122T183000
DTSTAMP:20260420T213622
CREATED:20260302T133112Z
LAST-MODIFIED:20260302T134255Z
UID:10000552-1769099400-1769106600@www.cwa4502.org
SUMMARY:Board of Trustees Meeting
DESCRIPTION:Find Board of Trustees Minutes here. Minutes are uploaded for the previous month after approval by the Board of Trustees.
URL:https://www.cwa4502.org/event/board-of-trustees-meeting-5/
LOCATION:OH
CATEGORIES:Board Meetings
ATTACH;FMTTYPE=image/png:https://www.cwa4502.org/wp-content/uploads/2025/08/CWA-Local-4502.png
END:VEVENT
END:VCALENDAR