BEGIN:VCALENDAR
VERSION:2.0
PRODID:-//CWA 4502 - ECPv6.15.20//NONSGML v1.0//EN
CALSCALE:GREGORIAN
METHOD:PUBLISH
X-WR-CALNAME:CWA 4502
X-ORIGINAL-URL:https://www.cwa4502.org
X-WR-CALDESC:Events for CWA 4502
REFRESH-INTERVAL;VALUE=DURATION:PT1H
X-Robots-Tag:noindex
X-PUBLISHED-TTL:PT1H
BEGIN:VTIMEZONE
TZID:America/Chicago
BEGIN:DAYLIGHT
TZOFFSETFROM:-0600
TZOFFSETTO:-0500
TZNAME:CDT
DTSTART:20230312T080000
END:DAYLIGHT
BEGIN:STANDARD
TZOFFSETFROM:-0500
TZOFFSETTO:-0600
TZNAME:CST
DTSTART:20231105T070000
END:STANDARD
BEGIN:DAYLIGHT
TZOFFSETFROM:-0600
TZOFFSETTO:-0500
TZNAME:CDT
DTSTART:20240310T080000
END:DAYLIGHT
BEGIN:STANDARD
TZOFFSETFROM:-0500
TZOFFSETTO:-0600
TZNAME:CST
DTSTART:20241103T070000
END:STANDARD
BEGIN:DAYLIGHT
TZOFFSETFROM:-0600
TZOFFSETTO:-0500
TZNAME:CDT
DTSTART:20250309T080000
END:DAYLIGHT
BEGIN:STANDARD
TZOFFSETFROM:-0500
TZOFFSETTO:-0600
TZNAME:CST
DTSTART:20251102T070000
END:STANDARD
END:VTIMEZONE
BEGIN:VEVENT
DTSTART;VALUE=DATE:20241111
DTEND;VALUE=DATE:20241112
DTSTAMP:20260421T031612
CREATED:20250828T135847Z
LAST-MODIFIED:20250828T140404Z
UID:10000170-1731283200-1731369599@www.cwa4502.org
SUMMARY:Veterans Day (Union Hall Closed)
DESCRIPTION:
URL:https://www.cwa4502.org/event/veterans-day-union-hall-closed/2024-11-11/
LOCATION:OH
CATEGORIES:Holidays
ATTACH;FMTTYPE=image/png:https://www.cwa4502.org/wp-content/uploads/2025/08/CWA-Local-4502_White.png
END:VEVENT
BEGIN:VEVENT
DTSTART;TZID=America/Chicago:20241113T163000
DTEND;TZID=America/Chicago:20241113T190000
DTSTAMP:20260421T031612
CREATED:20250828T142218Z
LAST-MODIFIED:20251112T150956Z
UID:10000353-1731515400-1731524400@www.cwa4502.org
SUMMARY:Membership Meeting
DESCRIPTION:Membership meetings are an important way to communicate within our local. We use these meetings to provide updates about what is happening in their local. We share information on new benefits\, upcoming social activities\, and ways to get involved with your union. When it comes time for contract negotiations\, membership meetings are the place to share your ideas for what you want to see in the next contract. \nFind this meeting’s agenda\, virtual option information\, and past minutes on the Membership Meeting webpage. \n4:30 p.m. – Social hour with hor d’oeuvres\n5:30 p.m. – Meeting begins
URL:https://www.cwa4502.org/event/membership-meeting/2024-11-13/
LOCATION:CWA Local 4502\, 399 E. Main St. Suite 200\, Columbus\, OH\, 43215\, United States
CATEGORIES:Membership Meetings
ATTACH;FMTTYPE=image/png:https://www.cwa4502.org/wp-content/uploads/2025/08/CWA-Local-4502.png
END:VEVENT
BEGIN:VEVENT
DTSTART;VALUE=DATE:20241128
DTEND;VALUE=DATE:20241129
DTSTAMP:20260421T031612
CREATED:20250828T135134Z
LAST-MODIFIED:20250828T140429Z
UID:10000171-1732752000-1732838399@www.cwa4502.org
SUMMARY:Thanksgiving Day (Union Hall Closed)
DESCRIPTION:
URL:https://www.cwa4502.org/event/thanksgiving-day-union-hall-closed/2024-11-28/
LOCATION:OH
CATEGORIES:Holidays
ATTACH;FMTTYPE=image/png:https://www.cwa4502.org/wp-content/uploads/2025/08/CWA-Local-4502_White.png
END:VEVENT
BEGIN:VEVENT
DTSTART;TZID=America/Chicago:20241128T163000
DTEND;TZID=America/Chicago:20241128T183000
DTSTAMP:20260421T031612
CREATED:20250828T143258Z
LAST-MODIFIED:20250828T143258Z
UID:10000394-1732811400-1732818600@www.cwa4502.org
SUMMARY:Board of Trustees Meeting
DESCRIPTION:Find Board of Trustees Minutes here. Minutes are uploaded for the previous month after approval by the Board of Trustees.
URL:https://www.cwa4502.org/event/board-of-trustees-meeting/2024-11-28/
LOCATION:OH
CATEGORIES:Board Meetings
ATTACH;FMTTYPE=image/png:https://www.cwa4502.org/wp-content/uploads/2025/08/CWA-Local-4502_White.png
END:VEVENT
END:VCALENDAR