BEGIN:VCALENDAR
VERSION:2.0
PRODID:-//CWA 4502 - ECPv6.15.20//NONSGML v1.0//EN
CALSCALE:GREGORIAN
METHOD:PUBLISH
X-ORIGINAL-URL:https://www.cwa4502.org
X-WR-CALDESC:Events for CWA 4502
REFRESH-INTERVAL;VALUE=DURATION:PT1H
X-Robots-Tag:noindex
X-PUBLISHED-TTL:PT1H
BEGIN:VTIMEZONE
TZID:America/Chicago
BEGIN:DAYLIGHT
TZOFFSETFROM:-0600
TZOFFSETTO:-0500
TZNAME:CDT
DTSTART:20240310T080000
END:DAYLIGHT
BEGIN:STANDARD
TZOFFSETFROM:-0500
TZOFFSETTO:-0600
TZNAME:CST
DTSTART:20241103T070000
END:STANDARD
BEGIN:DAYLIGHT
TZOFFSETFROM:-0600
TZOFFSETTO:-0500
TZNAME:CDT
DTSTART:20250309T080000
END:DAYLIGHT
BEGIN:STANDARD
TZOFFSETFROM:-0500
TZOFFSETTO:-0600
TZNAME:CST
DTSTART:20251102T070000
END:STANDARD
BEGIN:DAYLIGHT
TZOFFSETFROM:-0600
TZOFFSETTO:-0500
TZNAME:CDT
DTSTART:20260308T080000
END:DAYLIGHT
BEGIN:STANDARD
TZOFFSETFROM:-0500
TZOFFSETTO:-0600
TZNAME:CST
DTSTART:20261101T070000
END:STANDARD
END:VTIMEZONE
BEGIN:VEVENT
DTSTART;VALUE=DATE:20250704
DTEND;VALUE=DATE:20250705
DTSTAMP:20260420T153418
CREATED:20250828T152740Z
LAST-MODIFIED:20250828T152915Z
UID:10000475-1751587200-1751673599@www.cwa4502.org
SUMMARY:Independence Day (Union Hall Closed)
DESCRIPTION:
URL:https://www.cwa4502.org/event/independence-day-union-hall-closed/2025-07-04/
LOCATION:OH
CATEGORIES:Holidays
ATTACH;FMTTYPE=image/png:https://www.cwa4502.org/wp-content/uploads/2025/08/CWA-Local-4502_White.png
END:VEVENT
BEGIN:VEVENT
DTSTART;TZID=America/Chicago:20250709T163000
DTEND;TZID=America/Chicago:20250709T190000
DTSTAMP:20260420T153418
CREATED:20250828T142218Z
LAST-MODIFIED:20251112T150956Z
UID:10000356-1752078600-1752087600@www.cwa4502.org
SUMMARY:Membership Meeting
DESCRIPTION:Membership meetings are an important way to communicate within our local. We use these meetings to provide updates about what is happening in their local. We share information on new benefits\, upcoming social activities\, and ways to get involved with your union. When it comes time for contract negotiations\, membership meetings are the place to share your ideas for what you want to see in the next contract. \nFind this meeting’s agenda\, virtual option information\, and past minutes on the Membership Meeting webpage. \n4:30 p.m. – Social hour with hor d’oeuvres\n5:30 p.m. – Meeting begins
URL:https://www.cwa4502.org/event/membership-meeting/2025-07-09/
LOCATION:CWA Local 4502\, 399 E. Main St. Suite 200\, Columbus\, OH\, 43215\, United States
CATEGORIES:Membership Meetings
ATTACH;FMTTYPE=image/png:https://www.cwa4502.org/wp-content/uploads/2025/08/CWA-Local-4502.png
END:VEVENT
BEGIN:VEVENT
DTSTART;TZID=America/Chicago:20250722T210000
DTEND;TZID=America/Chicago:20250722T220000
DTSTAMP:20260420T153418
CREATED:20250828T152729Z
LAST-MODIFIED:20250828T152807Z
UID:10000466-1753218000-1753221600@www.cwa4502.org
SUMMARY:CWA Pride Caucus
DESCRIPTION:
URL:https://www.cwa4502.org/event/cwa-pride-caucus/
LOCATION:OH
CATEGORIES:Committees,Human Rights
ATTACH;FMTTYPE=image/png:https://www.cwa4502.org/wp-content/uploads/2025/08/Pride-Caucus.png
END:VEVENT
BEGIN:VEVENT
DTSTART;TZID=America/Chicago:20250724T163000
DTEND;TZID=America/Chicago:20250724T183000
DTSTAMP:20260420T153418
CREATED:20250828T143258Z
LAST-MODIFIED:20250828T143258Z
UID:10000402-1753374600-1753381800@www.cwa4502.org
SUMMARY:Board of Trustees Meeting
DESCRIPTION:Find Board of Trustees Minutes here. Minutes are uploaded for the previous month after approval by the Board of Trustees.
URL:https://www.cwa4502.org/event/board-of-trustees-meeting/2025-07-24/
LOCATION:OH
CATEGORIES:Board Meetings
ATTACH;FMTTYPE=image/png:https://www.cwa4502.org/wp-content/uploads/2025/08/CWA-Local-4502_White.png
END:VEVENT
BEGIN:VEVENT
DTSTART;TZID=America/Chicago:20250727T130000
DTEND;TZID=America/Chicago:20250727T170000
DTSTAMP:20260420T153418
CREATED:20250828T152146Z
LAST-MODIFIED:20250828T152146Z
UID:10000465-1753621200-1753635600@www.cwa4502.org
SUMMARY:Labor Night at the Columbus Clippers
DESCRIPTION:
URL:https://www.cwa4502.org/event/labor-night-at-the-columbus-clippers/
LOCATION:Huntington Park\, 330 Huntington Park Ln\, Columbus\, OH\, 43215\, United States
CATEGORIES:Social Event
ATTACH;FMTTYPE=image/png:https://www.cwa4502.org/wp-content/uploads/2025/08/Central-Ohio-Labor-Council-1.png
END:VEVENT
BEGIN:VEVENT
DTSTART;TZID=America/Chicago:20250731T173000
DTEND;TZID=America/Chicago:20250731T190000
DTSTAMP:20260420T153418
CREATED:20250828T144244Z
LAST-MODIFIED:20250828T144252Z
UID:10000464-1753983000-1753988400@www.cwa4502.org
SUMMARY:District 4 Round Table Discussion
DESCRIPTION:CWA District 4 is Hosting a Round Table on July 31\, and You’re Invited to be Part of the Conversation. \nThis isn’t your typical meeting. It will focus on reconnecting with members\, rebuilding strong communication\, and ensuring your union reflects what you need in today’s changing world. This isn’t a top-down presentation; it’s a real conversation about what you’re experiencing\, what you want to see\, and how we can move forward together. District 4 is holding these sessions across the region\, and now it’s our turn to help shape the future. RSVP now to make sure your voice is part of it.
URL:https://www.cwa4502.org/event/district-4-round-table-discussion/
LOCATION:CWA Local 4502\, 399 E. Main St. Suite 200\, Columbus\, OH\, 43215\, United States
CATEGORIES:District Event
ATTACH;FMTTYPE=image/png:https://www.cwa4502.org/wp-content/uploads/2025/08/CWA-District-4-1.png
END:VEVENT
END:VCALENDAR