BEGIN:VCALENDAR
VERSION:2.0
PRODID:-//CWA 4502 - ECPv6.15.20//NONSGML v1.0//EN
CALSCALE:GREGORIAN
METHOD:PUBLISH
X-ORIGINAL-URL:https://www.cwa4502.org
X-WR-CALDESC:Events for CWA 4502
REFRESH-INTERVAL;VALUE=DURATION:PT1H
X-Robots-Tag:noindex
X-PUBLISHED-TTL:PT1H
BEGIN:VTIMEZONE
TZID:America/Chicago
BEGIN:DAYLIGHT
TZOFFSETFROM:-0600
TZOFFSETTO:-0500
TZNAME:CDT
DTSTART:20250309T080000
END:DAYLIGHT
BEGIN:STANDARD
TZOFFSETFROM:-0500
TZOFFSETTO:-0600
TZNAME:CST
DTSTART:20251102T070000
END:STANDARD
BEGIN:DAYLIGHT
TZOFFSETFROM:-0600
TZOFFSETTO:-0500
TZNAME:CDT
DTSTART:20260308T080000
END:DAYLIGHT
BEGIN:STANDARD
TZOFFSETFROM:-0500
TZOFFSETTO:-0600
TZNAME:CST
DTSTART:20261101T070000
END:STANDARD
BEGIN:DAYLIGHT
TZOFFSETFROM:-0600
TZOFFSETTO:-0500
TZNAME:CDT
DTSTART:20270314T080000
END:DAYLIGHT
BEGIN:STANDARD
TZOFFSETFROM:-0500
TZOFFSETTO:-0600
TZNAME:CST
DTSTART:20271107T070000
END:STANDARD
END:VTIMEZONE
BEGIN:VEVENT
DTSTART;TZID=America/Chicago:20260304T180000
DTEND;TZID=America/Chicago:20260304T190000
DTSTAMP:20260420T050654
CREATED:20260223T233339Z
LAST-MODIFIED:20260223T233340Z
UID:10000545-1772647200-1772650800@www.cwa4502.org
SUMMARY:NextGen Committee Meeting
DESCRIPTION:
URL:https://www.cwa4502.org/event/nextgen-meetings-3/2026-03-04/
LOCATION:https://www.cwa4502.org/event/nextgen-meetings-3/2026-03-04/
CATEGORIES:Committees,NextGen
ATTACH;FMTTYPE=image/png:https://www.cwa4502.org/wp-content/uploads/2025/08/CWA-Local-4502-NextGen.png
END:VEVENT
BEGIN:VEVENT
DTSTART;TZID=America/Chicago:20260325T170000
DTEND;TZID=America/Chicago:20260325T183000
DTSTAMP:20260420T050654
CREATED:20260316T161059Z
LAST-MODIFIED:20260316T161059Z
UID:10000564-1774458000-1774463400@www.cwa4502.org
SUMMARY:NextGen Social: Happy Hour
DESCRIPTION:Members 35 and younger can see what being in a union is all about and connect with other NextGen members at our NextGen Social events! Our NextGen Committee is focused on encouraging members 35 and younger to get involved in their union. Through activism\, socializing and leadership development\, this committee helps build the next generation for our union.
URL:https://www.cwa4502.org/event/nextgen-social-happy-hour/
LOCATION:The Little Grand Market\, 710 Grandview Xing Wy Suite 112\, Columbus\, Ohio\, 43215
CATEGORIES:Committees,NextGen,Social Event
ATTACH;FMTTYPE=image/png:https://www.cwa4502.org/wp-content/uploads/2025/08/CWA-Local-4502-NextGen.png
END:VEVENT
BEGIN:VEVENT
DTSTART;TZID=America/Chicago:20260326T153000
DTEND;TZID=America/Chicago:20260326T173000
DTSTAMP:20260420T050654
CREATED:20260302T133222Z
LAST-MODIFIED:20260302T134307Z
UID:10000553-1774539000-1774546200@www.cwa4502.org
SUMMARY:Board of Trustees Meeting
DESCRIPTION:Find Board of Trustees Minutes here. Minutes are uploaded for the previous month after approval by the Board of Trustees.
URL:https://www.cwa4502.org/event/board-of-trustees-meeting-6/
LOCATION:OH
CATEGORIES:Board Meetings
ATTACH;FMTTYPE=image/png:https://www.cwa4502.org/wp-content/uploads/2025/08/CWA-Local-4502.png
END:VEVENT
BEGIN:VEVENT
DTSTART;TZID=America/Chicago:20260327T080000
DTEND;TZID=America/Chicago:20260327T170000
DTSTAMP:20260420T050655
CREATED:20260327T200328Z
LAST-MODIFIED:20260327T200328Z
UID:10000566-1774598400-1774630800@www.cwa4502.org
SUMMARY:Columbus Blue Jackets Labor Night
DESCRIPTION:Join the Columbus Blue Jackets for their Labor Night!
URL:https://www.cwa4502.org/event/columbus-blue-jackets-labor-night/
LOCATION:Nationwide Arena\, 200 W Nationwide Blvd\, Columbus\, OH\, 43215\, United States
CATEGORIES:Social Event
ATTACH;FMTTYPE=image/png:https://www.cwa4502.org/wp-content/uploads/2025/08/Central-Ohio-Labor-Council.png
END:VEVENT
END:VCALENDAR