BEGIN:VCALENDAR
VERSION:2.0
PRODID:-//CWA 4502 - ECPv6.15.20//NONSGML v1.0//EN
CALSCALE:GREGORIAN
METHOD:PUBLISH
X-WR-CALNAME:CWA 4502
X-ORIGINAL-URL:https://www.cwa4502.org
X-WR-CALDESC:Events for CWA 4502
REFRESH-INTERVAL;VALUE=DURATION:PT1H
X-Robots-Tag:noindex
X-PUBLISHED-TTL:PT1H
BEGIN:VTIMEZONE
TZID:America/Chicago
BEGIN:DAYLIGHT
TZOFFSETFROM:-0600
TZOFFSETTO:-0500
TZNAME:CDT
DTSTART:20250309T080000
END:DAYLIGHT
BEGIN:STANDARD
TZOFFSETFROM:-0500
TZOFFSETTO:-0600
TZNAME:CST
DTSTART:20251102T070000
END:STANDARD
BEGIN:DAYLIGHT
TZOFFSETFROM:-0600
TZOFFSETTO:-0500
TZNAME:CDT
DTSTART:20260308T080000
END:DAYLIGHT
BEGIN:STANDARD
TZOFFSETFROM:-0500
TZOFFSETTO:-0600
TZNAME:CST
DTSTART:20261101T070000
END:STANDARD
BEGIN:DAYLIGHT
TZOFFSETFROM:-0600
TZOFFSETTO:-0500
TZNAME:CDT
DTSTART:20270314T080000
END:DAYLIGHT
BEGIN:STANDARD
TZOFFSETFROM:-0500
TZOFFSETTO:-0600
TZNAME:CST
DTSTART:20271107T070000
END:STANDARD
END:VTIMEZONE
BEGIN:VEVENT
DTSTART;VALUE=DATE:20261103
DTEND;VALUE=DATE:20261104
DTSTAMP:20260420T130644
CREATED:20250910T144912Z
LAST-MODIFIED:20250910T145015Z
UID:10000516-1793664000-1793750399@www.cwa4502.org
SUMMARY:General Election Day
DESCRIPTION:Find Your Polling Place
URL:https://www.cwa4502.org/event/general-election-day/2026-11-03/
LOCATION:OH
CATEGORIES:Committees,Legislative-Political
ATTACH;FMTTYPE=image/png:https://www.cwa4502.org/wp-content/uploads/2025/08/CWA-Local-4502.png
END:VEVENT
BEGIN:VEVENT
DTSTART;VALUE=DATE:20261111
DTEND;VALUE=DATE:20261112
DTSTAMP:20260420T130644
CREATED:20250828T135847Z
LAST-MODIFIED:20250828T140404Z
UID:10000154-1794355200-1794441599@www.cwa4502.org
SUMMARY:Veterans Day (Union Hall Closed)
DESCRIPTION:
URL:https://www.cwa4502.org/event/veterans-day-union-hall-closed/2026-11-11/
LOCATION:OH
CATEGORIES:Holidays
ATTACH;FMTTYPE=image/png:https://www.cwa4502.org/wp-content/uploads/2025/08/CWA-Local-4502_White.png
END:VEVENT
BEGIN:VEVENT
DTSTART;TZID=America/Chicago:20261119T163000
DTEND;TZID=America/Chicago:20261119T183000
DTSTAMP:20260420T130644
CREATED:20260302T134823Z
LAST-MODIFIED:20260302T134823Z
UID:10000562-1795105800-1795113000@www.cwa4502.org
SUMMARY:Board of Trustees Meeting
DESCRIPTION:Find Board of Trustees Minutes here. Minutes are uploaded for the previous month after approval by the Board of Trustees.
URL:https://www.cwa4502.org/event/board-of-trustees-meeting-15/
LOCATION:OH
CATEGORIES:Board Meetings
ATTACH;FMTTYPE=image/png:https://www.cwa4502.org/wp-content/uploads/2025/08/CWA-Local-4502.png
END:VEVENT
BEGIN:VEVENT
DTSTART;VALUE=DATE:20261126
DTEND;VALUE=DATE:20261127
DTSTAMP:20260420T130644
CREATED:20250828T135134Z
LAST-MODIFIED:20250828T140429Z
UID:10000173-1795651200-1795737599@www.cwa4502.org
SUMMARY:Thanksgiving Day (Union Hall Closed)
DESCRIPTION:
URL:https://www.cwa4502.org/event/thanksgiving-day-union-hall-closed/2026-11-26/
LOCATION:OH
CATEGORIES:Holidays
ATTACH;FMTTYPE=image/png:https://www.cwa4502.org/wp-content/uploads/2025/08/CWA-Local-4502_White.png
END:VEVENT
END:VCALENDAR