BEGIN:VCALENDAR
VERSION:2.0
PRODID:-//CWA 4502 - ECPv6.15.20//NONSGML v1.0//EN
CALSCALE:GREGORIAN
METHOD:PUBLISH
X-WR-CALNAME:CWA 4502
X-ORIGINAL-URL:https://www.cwa4502.org
X-WR-CALDESC:Events for CWA 4502
REFRESH-INTERVAL;VALUE=DURATION:PT1H
X-Robots-Tag:noindex
X-PUBLISHED-TTL:PT1H
BEGIN:VTIMEZONE
TZID:America/Chicago
BEGIN:DAYLIGHT
TZOFFSETFROM:-0600
TZOFFSETTO:-0500
TZNAME:CDT
DTSTART:20250309T080000
END:DAYLIGHT
BEGIN:STANDARD
TZOFFSETFROM:-0500
TZOFFSETTO:-0600
TZNAME:CST
DTSTART:20251102T070000
END:STANDARD
BEGIN:DAYLIGHT
TZOFFSETFROM:-0600
TZOFFSETTO:-0500
TZNAME:CDT
DTSTART:20260308T080000
END:DAYLIGHT
BEGIN:STANDARD
TZOFFSETFROM:-0500
TZOFFSETTO:-0600
TZNAME:CST
DTSTART:20261101T070000
END:STANDARD
BEGIN:DAYLIGHT
TZOFFSETFROM:-0600
TZOFFSETTO:-0500
TZNAME:CDT
DTSTART:20270314T080000
END:DAYLIGHT
BEGIN:STANDARD
TZOFFSETFROM:-0500
TZOFFSETTO:-0600
TZNAME:CST
DTSTART:20271107T070000
END:STANDARD
BEGIN:DAYLIGHT
TZOFFSETFROM:-0600
TZOFFSETTO:-0500
TZNAME:CDT
DTSTART:20280312T080000
END:DAYLIGHT
BEGIN:STANDARD
TZOFFSETFROM:-0500
TZOFFSETTO:-0600
TZNAME:CST
DTSTART:20281105T070000
END:STANDARD
BEGIN:DAYLIGHT
TZOFFSETFROM:-0600
TZOFFSETTO:-0500
TZNAME:CDT
DTSTART:20290311T080000
END:DAYLIGHT
BEGIN:STANDARD
TZOFFSETFROM:-0500
TZOFFSETTO:-0600
TZNAME:CST
DTSTART:20291104T070000
END:STANDARD
END:VTIMEZONE
BEGIN:VEVENT
DTSTART;VALUE=DATE:20260704
DTEND;VALUE=DATE:20260705
DTSTAMP:20260420T191827
CREATED:20250828T152740Z
LAST-MODIFIED:20250828T152915Z
UID:10000476-1783123200-1783209599@www.cwa4502.org
SUMMARY:Independence Day (Union Hall Closed)
DESCRIPTION:
URL:https://www.cwa4502.org/event/independence-day-union-hall-closed/2026-07-04/
CATEGORIES:Holidays
ATTACH;FMTTYPE=image/png:https://www.cwa4502.org/wp-content/uploads/2025/08/CWA-Local-4502_White.png
END:VEVENT
BEGIN:VEVENT
DTSTART;TZID=America/Chicago:20260719T190000
DTEND;TZID=America/Chicago:20260719T213000
DTSTAMP:20260420T191827
CREATED:20260327T200647Z
LAST-MODIFIED:20260327T200647Z
UID:10000567-1784487600-1784496600@www.cwa4502.org
SUMMARY:Columbus Clippers Labor Night
DESCRIPTION:More Info Coming Soon!
URL:https://www.cwa4502.org/event/columbus-clippers-labor-night/
LOCATION:Huntington Park\, 330 Huntington Park Ln\, Columbus\, OH\, 43215\, United States
CATEGORIES:Social Event
ATTACH;FMTTYPE=image/png:https://www.cwa4502.org/wp-content/uploads/2025/08/Central-Ohio-Labor-Council.png
END:VEVENT
BEGIN:VEVENT
DTSTART;TZID=America/Chicago:20260723T163000
DTEND;TZID=America/Chicago:20260723T183000
DTSTAMP:20260420T191827
CREATED:20260302T134533Z
LAST-MODIFIED:20260302T134533Z
UID:10000558-1784824200-1784831400@www.cwa4502.org
SUMMARY:Board of Trustees Meeting
DESCRIPTION:Find Board of Trustees Minutes here. Minutes are uploaded for the previous month after approval by the Board of Trustees.
URL:https://www.cwa4502.org/event/board-of-trustees-meeting-11/
CATEGORIES:Board Meetings
ATTACH;FMTTYPE=image/png:https://www.cwa4502.org/wp-content/uploads/2025/08/CWA-Local-4502.png
END:VEVENT
BEGIN:VEVENT
DTSTART;TZID=America/Chicago:20260812T163000
DTEND;TZID=America/Chicago:20260812T190000
DTSTAMP:20260420T191827
CREATED:20251112T200059Z
LAST-MODIFIED:20251112T200429Z
UID:10000361-1786552200-1786561200@www.cwa4502.org
SUMMARY:Membership Meeting
DESCRIPTION:Membership meetings are an important way to communicate within our local. We use these meetings to provide updates about what is happening in their local. We share information on new benefits\, upcoming social activities\, and ways to get involved with your union. When it comes time for contract negotiations\, membership meetings are the place to share your ideas for what you want to see in the next contract. \nFind this meeting’s agenda\, virtual option information\, and past minutes on the Membership Meeting webpage. \n4:30 p.m. – Social hour with hor d’oeuvres\n5:30 p.m. – Meeting begins \nVirtual Option RSVP
URL:https://www.cwa4502.org/event/membership-meeting-6/
LOCATION:CWA Local 4502\, 399 E. Main St. Suite 200\, Columbus\, OH\, 43215\, United States
CATEGORIES:Membership Meetings
ATTACH;FMTTYPE=image/png:https://www.cwa4502.org/wp-content/uploads/2025/08/CWA-Local-4502.png
END:VEVENT
BEGIN:VEVENT
DTSTART;TZID=America/Chicago:20260827T163000
DTEND;TZID=America/Chicago:20260827T183000
DTSTAMP:20260420T191827
CREATED:20260302T134612Z
LAST-MODIFIED:20260302T134612Z
UID:10000559-1787848200-1787855400@www.cwa4502.org
SUMMARY:Board of Trustees Meeting
DESCRIPTION:Find Board of Trustees Minutes here. Minutes are uploaded for the previous month after approval by the Board of Trustees.
URL:https://www.cwa4502.org/event/board-of-trustees-meeting-12/
CATEGORIES:Board Meetings
ATTACH;FMTTYPE=image/png:https://www.cwa4502.org/wp-content/uploads/2025/08/CWA-Local-4502.png
END:VEVENT
BEGIN:VEVENT
DTSTART;VALUE=DATE:20260907
DTEND;VALUE=DATE:20260908
DTSTAMP:20260420T191827
CREATED:20250828T140246Z
LAST-MODIFIED:20250828T140335Z
UID:10000164-1788739200-1788825599@www.cwa4502.org
SUMMARY:Labor Day (Union Hall Closed)
DESCRIPTION:
URL:https://www.cwa4502.org/event/labor-day-union-hall-closed/2026-09-07/
CATEGORIES:Holidays
ATTACH;FMTTYPE=image/png:https://www.cwa4502.org/wp-content/uploads/2025/08/CWA-Local-4502_White.png
END:VEVENT
BEGIN:VEVENT
DTSTART;TZID=America/Chicago:20260924T163000
DTEND;TZID=America/Chicago:20260924T183000
DTSTAMP:20260420T191827
CREATED:20260302T134640Z
LAST-MODIFIED:20260302T134640Z
UID:10000560-1790267400-1790274600@www.cwa4502.org
SUMMARY:Board of Trustees Meeting
DESCRIPTION:Find Board of Trustees Minutes here. Minutes are uploaded for the previous month after approval by the Board of Trustees.
URL:https://www.cwa4502.org/event/board-of-trustees-meeting-13/
CATEGORIES:Board Meetings
ATTACH;FMTTYPE=image/png:https://www.cwa4502.org/wp-content/uploads/2025/08/CWA-Local-4502.png
END:VEVENT
BEGIN:VEVENT
DTSTART;VALUE=DATE:20261012
DTEND;VALUE=DATE:20261013
DTSTAMP:20260420T191827
CREATED:20250828T140159Z
LAST-MODIFIED:20250828T140349Z
UID:10000159-1791763200-1791849599@www.cwa4502.org
SUMMARY:Indigenous Peoples’ Day (Union Hall Closed)
DESCRIPTION:
URL:https://www.cwa4502.org/event/indigenous-peoples-day-union-hall-closed/2026-10-12/
CATEGORIES:Holidays
ATTACH;FMTTYPE=image/png:https://www.cwa4502.org/wp-content/uploads/2025/08/CWA-Local-4502_White.png
END:VEVENT
BEGIN:VEVENT
DTSTART;TZID=America/Chicago:20261014T163000
DTEND;TZID=America/Chicago:20261014T190000
DTSTAMP:20260420T191827
CREATED:20251112T200103Z
LAST-MODIFIED:20251112T200504Z
UID:10000362-1791995400-1792004400@www.cwa4502.org
SUMMARY:Membership Meeting
DESCRIPTION:Membership meetings are an important way to communicate within our local. We use these meetings to provide updates about what is happening in their local. We share information on new benefits\, upcoming social activities\, and ways to get involved with your union. When it comes time for contract negotiations\, membership meetings are the place to share your ideas for what you want to see in the next contract. \nFind this meeting’s agenda\, virtual option information\, and past minutes on the Membership Meeting webpage. \n4:30 p.m. – Social hour with hor d’oeuvres\n5:30 p.m. – Meeting begins \nVirtual Option RSVP
URL:https://www.cwa4502.org/event/membership-meeting-7/
LOCATION:CWA Local 4502\, 399 E. Main St. Suite 200\, Columbus\, OH\, 43215\, United States
CATEGORIES:Membership Meetings
ATTACH;FMTTYPE=image/png:https://www.cwa4502.org/wp-content/uploads/2025/08/CWA-Local-4502.png
END:VEVENT
BEGIN:VEVENT
DTSTART;TZID=America/Chicago:20261022T163000
DTEND;TZID=America/Chicago:20261022T183000
DTSTAMP:20260420T191827
CREATED:20260302T134754Z
LAST-MODIFIED:20260302T134754Z
UID:10000561-1792686600-1792693800@www.cwa4502.org
SUMMARY:Board of Trustees Meeting
DESCRIPTION:Find Board of Trustees Minutes here. Minutes are uploaded for the previous month after approval by the Board of Trustees.
URL:https://www.cwa4502.org/event/board-of-trustees-meeting-14/
CATEGORIES:Board Meetings
ATTACH;FMTTYPE=image/png:https://www.cwa4502.org/wp-content/uploads/2025/08/CWA-Local-4502.png
END:VEVENT
BEGIN:VEVENT
DTSTART;VALUE=DATE:20261103
DTEND;VALUE=DATE:20261104
DTSTAMP:20260420T191827
CREATED:20250910T144912Z
LAST-MODIFIED:20250910T145015Z
UID:10000516-1793664000-1793750399@www.cwa4502.org
SUMMARY:General Election Day
DESCRIPTION:Find Your Polling Place
URL:https://www.cwa4502.org/event/general-election-day/2026-11-03/
CATEGORIES:Committees,Legislative-Political
ATTACH;FMTTYPE=image/png:https://www.cwa4502.org/wp-content/uploads/2025/08/CWA-Local-4502.png
END:VEVENT
BEGIN:VEVENT
DTSTART;VALUE=DATE:20261111
DTEND;VALUE=DATE:20261112
DTSTAMP:20260420T191827
CREATED:20250828T135847Z
LAST-MODIFIED:20250828T140404Z
UID:10000154-1794355200-1794441599@www.cwa4502.org
SUMMARY:Veterans Day (Union Hall Closed)
DESCRIPTION:
URL:https://www.cwa4502.org/event/veterans-day-union-hall-closed/2026-11-11/
CATEGORIES:Holidays
ATTACH;FMTTYPE=image/png:https://www.cwa4502.org/wp-content/uploads/2025/08/CWA-Local-4502_White.png
END:VEVENT
BEGIN:VEVENT
DTSTART;TZID=America/Chicago:20261119T163000
DTEND;TZID=America/Chicago:20261119T183000
DTSTAMP:20260420T191827
CREATED:20260302T134823Z
LAST-MODIFIED:20260302T134823Z
UID:10000562-1795105800-1795113000@www.cwa4502.org
SUMMARY:Board of Trustees Meeting
DESCRIPTION:Find Board of Trustees Minutes here. Minutes are uploaded for the previous month after approval by the Board of Trustees.
URL:https://www.cwa4502.org/event/board-of-trustees-meeting-15/
CATEGORIES:Board Meetings
ATTACH;FMTTYPE=image/png:https://www.cwa4502.org/wp-content/uploads/2025/08/CWA-Local-4502.png
END:VEVENT
BEGIN:VEVENT
DTSTART;VALUE=DATE:20261126
DTEND;VALUE=DATE:20261127
DTSTAMP:20260420T191827
CREATED:20250828T135134Z
LAST-MODIFIED:20250828T140429Z
UID:10000173-1795651200-1795737599@www.cwa4502.org
SUMMARY:Thanksgiving Day (Union Hall Closed)
DESCRIPTION:
URL:https://www.cwa4502.org/event/thanksgiving-day-union-hall-closed/2026-11-26/
CATEGORIES:Holidays
ATTACH;FMTTYPE=image/png:https://www.cwa4502.org/wp-content/uploads/2025/08/CWA-Local-4502_White.png
END:VEVENT
BEGIN:VEVENT
DTSTART;TZID=America/Chicago:20261218T113000
DTEND;TZID=America/Chicago:20261218T133000
DTSTAMP:20260420T191827
CREATED:20260302T134951Z
LAST-MODIFIED:20260302T134951Z
UID:10000563-1797593400-1797600600@www.cwa4502.org
SUMMARY:Board of Trustees Meeting
DESCRIPTION:Find Board of Trustees Minutes here. Minutes are uploaded for the previous month after approval by the Board of Trustees.
URL:https://www.cwa4502.org/event/board-of-trustees-meeting-16/
CATEGORIES:Board Meetings
ATTACH;FMTTYPE=image/png:https://www.cwa4502.org/wp-content/uploads/2025/08/CWA-Local-4502.png
END:VEVENT
BEGIN:VEVENT
DTSTART;VALUE=DATE:20261225
DTEND;VALUE=DATE:20261226
DTSTAMP:20260420T191827
CREATED:20250828T134453Z
LAST-MODIFIED:20250828T140444Z
UID:10000143-1798156800-1798243199@www.cwa4502.org
SUMMARY:Christmas Day (Union Hall Closed)
DESCRIPTION:
URL:https://www.cwa4502.org/event/christmas-day-union-hall-closed/2026-12-25/
CATEGORIES:Holidays
ATTACH;FMTTYPE=image/png:https://www.cwa4502.org/wp-content/uploads/2025/08/CWA-Local-4502_White.png
END:VEVENT
BEGIN:VEVENT
DTSTART;VALUE=DATE:20270101
DTEND;VALUE=DATE:20270102
DTSTAMP:20260420T191827
CREATED:20250828T153953Z
LAST-MODIFIED:20250828T153953Z
UID:10000507-1798761600-1798847999@www.cwa4502.org
SUMMARY:New Year's Day (Union Hall Closed)
DESCRIPTION:
URL:https://www.cwa4502.org/event/new-years-day-union-hall-closed/2027-01-01/
CATEGORIES:Holidays
ATTACH;FMTTYPE=image/png:https://www.cwa4502.org/wp-content/uploads/2025/08/CWA-Local-4502_White.png
END:VEVENT
BEGIN:VEVENT
DTSTART;VALUE=DATE:20270118
DTEND;VALUE=DATE:20270119
DTSTAMP:20260420T191827
CREATED:20250828T153910Z
LAST-MODIFIED:20250828T153910Z
UID:10000500-1800230400-1800316799@www.cwa4502.org
SUMMARY:Martin Luther King Jr. Day (Union Hall Closed)
DESCRIPTION:
URL:https://www.cwa4502.org/event/martin-luther-king-jr-day-union-hall-closed/2027-01-18/
CATEGORIES:Holidays
ATTACH;FMTTYPE=image/png:https://www.cwa4502.org/wp-content/uploads/2025/08/CWA-Local-4502_White.png
END:VEVENT
BEGIN:VEVENT
DTSTART;VALUE=DATE:20270215
DTEND;VALUE=DATE:20270216
DTSTAMP:20260420T191827
CREATED:20250828T153752Z
LAST-MODIFIED:20250828T153752Z
UID:10000493-1802649600-1802735999@www.cwa4502.org
SUMMARY:Presidents' Day (Union Hall Closed)
DESCRIPTION:
URL:https://www.cwa4502.org/event/presidents-day-union-hall-closed/2027-02-15/
CATEGORIES:Holidays
ATTACH;FMTTYPE=image/png:https://www.cwa4502.org/wp-content/uploads/2025/08/CWA-Local-4502_White.png
END:VEVENT
BEGIN:VEVENT
DTSTART;VALUE=DATE:20270504
DTEND;VALUE=DATE:20270505
DTSTAMP:20260420T191827
CREATED:20250910T145134Z
LAST-MODIFIED:20250910T145134Z
UID:10000527-1809388800-1809475199@www.cwa4502.org
SUMMARY:Primary Election Day
DESCRIPTION:Find Your Polling Place
URL:https://www.cwa4502.org/event/primary-election-day/2027-05-04/
CATEGORIES:Committees,Legislative-Political
ATTACH;FMTTYPE=image/png:https://www.cwa4502.org/wp-content/uploads/2025/08/CWA-Local-4502.png
END:VEVENT
BEGIN:VEVENT
DTSTART;VALUE=DATE:20270531
DTEND;VALUE=DATE:20270601
DTSTAMP:20260420T191827
CREATED:20250828T153527Z
LAST-MODIFIED:20250828T153527Z
UID:10000486-1811721600-1811807999@www.cwa4502.org
SUMMARY:Memorial Day (Union Hall Closed)
DESCRIPTION:
URL:https://www.cwa4502.org/event/memorial-day-union-hall-closed/2027-05-31/
CATEGORIES:Holidays
ATTACH;FMTTYPE=image/png:https://www.cwa4502.org/wp-content/uploads/2025/08/CWA-Local-4502_White.png
END:VEVENT
BEGIN:VEVENT
DTSTART;VALUE=DATE:20270619
DTEND;VALUE=DATE:20270620
DTSTAMP:20260420T191827
CREATED:20250828T152842Z
LAST-MODIFIED:20250828T152842Z
UID:10000471-1813363200-1813449599@www.cwa4502.org
SUMMARY:Juneteenth (Union Hall Closed)
DESCRIPTION:
URL:https://www.cwa4502.org/event/juneteenth-union-hall-closed/2027-06-19/
CATEGORIES:Holidays
END:VEVENT
BEGIN:VEVENT
DTSTART;VALUE=DATE:20270704
DTEND;VALUE=DATE:20270705
DTSTAMP:20260420T191827
CREATED:20250828T152740Z
LAST-MODIFIED:20250828T152915Z
UID:10000477-1814659200-1814745599@www.cwa4502.org
SUMMARY:Independence Day (Union Hall Closed)
DESCRIPTION:
URL:https://www.cwa4502.org/event/independence-day-union-hall-closed/2027-07-04/
CATEGORIES:Holidays
ATTACH;FMTTYPE=image/png:https://www.cwa4502.org/wp-content/uploads/2025/08/CWA-Local-4502_White.png
END:VEVENT
BEGIN:VEVENT
DTSTART;VALUE=DATE:20270906
DTEND;VALUE=DATE:20270907
DTSTAMP:20260420T191827
CREATED:20250828T140246Z
LAST-MODIFIED:20250828T140335Z
UID:10000165-1820188800-1820275199@www.cwa4502.org
SUMMARY:Labor Day (Union Hall Closed)
DESCRIPTION:
URL:https://www.cwa4502.org/event/labor-day-union-hall-closed/2027-09-06/
CATEGORIES:Holidays
ATTACH;FMTTYPE=image/png:https://www.cwa4502.org/wp-content/uploads/2025/08/CWA-Local-4502_White.png
END:VEVENT
BEGIN:VEVENT
DTSTART;VALUE=DATE:20271011
DTEND;VALUE=DATE:20271012
DTSTAMP:20260420T191827
CREATED:20250828T140159Z
LAST-MODIFIED:20250828T140349Z
UID:10000160-1823212800-1823299199@www.cwa4502.org
SUMMARY:Indigenous Peoples’ Day (Union Hall Closed)
DESCRIPTION:
URL:https://www.cwa4502.org/event/indigenous-peoples-day-union-hall-closed/2027-10-11/
CATEGORIES:Holidays
ATTACH;FMTTYPE=image/png:https://www.cwa4502.org/wp-content/uploads/2025/08/CWA-Local-4502_White.png
END:VEVENT
BEGIN:VEVENT
DTSTART;VALUE=DATE:20271102
DTEND;VALUE=DATE:20271103
DTSTAMP:20260420T191827
CREATED:20250910T144912Z
LAST-MODIFIED:20250910T145015Z
UID:10000517-1825113600-1825199999@www.cwa4502.org
SUMMARY:General Election Day
DESCRIPTION:Find Your Polling Place
URL:https://www.cwa4502.org/event/general-election-day/2027-11-02/
CATEGORIES:Committees,Legislative-Political
ATTACH;FMTTYPE=image/png:https://www.cwa4502.org/wp-content/uploads/2025/08/CWA-Local-4502.png
END:VEVENT
BEGIN:VEVENT
DTSTART;VALUE=DATE:20271111
DTEND;VALUE=DATE:20271112
DTSTAMP:20260420T191827
CREATED:20250828T135847Z
LAST-MODIFIED:20250828T140404Z
UID:10000155-1825891200-1825977599@www.cwa4502.org
SUMMARY:Veterans Day (Union Hall Closed)
DESCRIPTION:
URL:https://www.cwa4502.org/event/veterans-day-union-hall-closed/2027-11-11/
CATEGORIES:Holidays
ATTACH;FMTTYPE=image/png:https://www.cwa4502.org/wp-content/uploads/2025/08/CWA-Local-4502_White.png
END:VEVENT
BEGIN:VEVENT
DTSTART;VALUE=DATE:20271125
DTEND;VALUE=DATE:20271126
DTSTAMP:20260420T191827
CREATED:20250828T135134Z
LAST-MODIFIED:20250828T140429Z
UID:10000174-1827100800-1827187199@www.cwa4502.org
SUMMARY:Thanksgiving Day (Union Hall Closed)
DESCRIPTION:
URL:https://www.cwa4502.org/event/thanksgiving-day-union-hall-closed/2027-11-25/
CATEGORIES:Holidays
ATTACH;FMTTYPE=image/png:https://www.cwa4502.org/wp-content/uploads/2025/08/CWA-Local-4502_White.png
END:VEVENT
BEGIN:VEVENT
DTSTART;VALUE=DATE:20271225
DTEND;VALUE=DATE:20271226
DTSTAMP:20260420T191827
CREATED:20250828T134453Z
LAST-MODIFIED:20250828T140444Z
UID:10000144-1829692800-1829779199@www.cwa4502.org
SUMMARY:Christmas Day (Union Hall Closed)
DESCRIPTION:
URL:https://www.cwa4502.org/event/christmas-day-union-hall-closed/2027-12-25/
CATEGORIES:Holidays
ATTACH;FMTTYPE=image/png:https://www.cwa4502.org/wp-content/uploads/2025/08/CWA-Local-4502_White.png
END:VEVENT
BEGIN:VEVENT
DTSTART;VALUE=DATE:20280101
DTEND;VALUE=DATE:20280102
DTSTAMP:20260420T191827
CREATED:20250828T153953Z
LAST-MODIFIED:20250828T153953Z
UID:10000508-1830297600-1830383999@www.cwa4502.org
SUMMARY:New Year's Day (Union Hall Closed)
DESCRIPTION:
URL:https://www.cwa4502.org/event/new-years-day-union-hall-closed/2028-01-01/
CATEGORIES:Holidays
ATTACH;FMTTYPE=image/png:https://www.cwa4502.org/wp-content/uploads/2025/08/CWA-Local-4502_White.png
END:VEVENT
END:VCALENDAR