BEGIN:VCALENDAR
VERSION:2.0
PRODID:-//CWA 4502 - ECPv6.15.20//NONSGML v1.0//EN
CALSCALE:GREGORIAN
METHOD:PUBLISH
X-WR-CALNAME:CWA 4502
X-ORIGINAL-URL:https://www.cwa4502.org
X-WR-CALDESC:Events for CWA 4502
REFRESH-INTERVAL;VALUE=DURATION:PT1H
X-Robots-Tag:noindex
X-PUBLISHED-TTL:PT1H
BEGIN:VTIMEZONE
TZID:America/Chicago
BEGIN:DAYLIGHT
TZOFFSETFROM:-0600
TZOFFSETTO:-0500
TZNAME:CDT
DTSTART:20230312T080000
END:DAYLIGHT
BEGIN:STANDARD
TZOFFSETFROM:-0500
TZOFFSETTO:-0600
TZNAME:CST
DTSTART:20231105T070000
END:STANDARD
BEGIN:DAYLIGHT
TZOFFSETFROM:-0600
TZOFFSETTO:-0500
TZNAME:CDT
DTSTART:20240310T080000
END:DAYLIGHT
BEGIN:STANDARD
TZOFFSETFROM:-0500
TZOFFSETTO:-0600
TZNAME:CST
DTSTART:20241103T070000
END:STANDARD
BEGIN:DAYLIGHT
TZOFFSETFROM:-0600
TZOFFSETTO:-0500
TZNAME:CDT
DTSTART:20250309T080000
END:DAYLIGHT
BEGIN:STANDARD
TZOFFSETFROM:-0500
TZOFFSETTO:-0600
TZNAME:CST
DTSTART:20251102T070000
END:STANDARD
END:VTIMEZONE
BEGIN:VEVENT
DTSTART;TZID=America/Chicago:20240911T163000
DTEND;TZID=America/Chicago:20240911T190000
DTSTAMP:20260420T213457
CREATED:20250828T142218Z
LAST-MODIFIED:20251112T150956Z
UID:10000352-1726072200-1726081200@www.cwa4502.org
SUMMARY:Membership Meeting
DESCRIPTION:Membership meetings are an important way to communicate within our local. We use these meetings to provide updates about what is happening in their local. We share information on new benefits\, upcoming social activities\, and ways to get involved with your union. When it comes time for contract negotiations\, membership meetings are the place to share your ideas for what you want to see in the next contract. \nFind this meeting’s agenda\, virtual option information\, and past minutes on the Membership Meeting webpage. \n4:30 p.m. – Social hour with hor d’oeuvres\n5:30 p.m. – Meeting begins
URL:https://www.cwa4502.org/event/membership-meeting/2024-09-11/
LOCATION:CWA Local 4502\, 399 E. Main St. Suite 200\, Columbus\, OH\, 43215\, United States
CATEGORIES:Membership Meetings
ATTACH;FMTTYPE=image/png:https://www.cwa4502.org/wp-content/uploads/2025/08/CWA-Local-4502.png
END:VEVENT
BEGIN:VEVENT
DTSTART;VALUE=DATE:20240902
DTEND;VALUE=DATE:20240903
DTSTAMP:20260420T213457
CREATED:20250828T140246Z
LAST-MODIFIED:20250828T140335Z
UID:10000168-1725235200-1725321599@www.cwa4502.org
SUMMARY:Labor Day (Union Hall Closed)
DESCRIPTION:
URL:https://www.cwa4502.org/event/labor-day-union-hall-closed/2024-09-02/
CATEGORIES:Holidays
ATTACH;FMTTYPE=image/png:https://www.cwa4502.org/wp-content/uploads/2025/08/CWA-Local-4502_White.png
END:VEVENT
BEGIN:VEVENT
DTSTART;TZID=America/Chicago:20240822T163000
DTEND;TZID=America/Chicago:20240822T183000
DTSTAMP:20260420T213457
CREATED:20250828T143258Z
LAST-MODIFIED:20250828T143258Z
UID:10000391-1724344200-1724351400@www.cwa4502.org
SUMMARY:Board of Trustees Meeting
DESCRIPTION:Find Board of Trustees Minutes here. Minutes are uploaded for the previous month after approval by the Board of Trustees.
URL:https://www.cwa4502.org/event/board-of-trustees-meeting/2024-08-22/
CATEGORIES:Board Meetings
ATTACH;FMTTYPE=image/png:https://www.cwa4502.org/wp-content/uploads/2025/08/CWA-Local-4502_White.png
END:VEVENT
BEGIN:VEVENT
DTSTART;TZID=America/Chicago:20240725T163000
DTEND;TZID=America/Chicago:20240725T183000
DTSTAMP:20260420T213457
CREATED:20250828T143258Z
LAST-MODIFIED:20250828T143258Z
UID:10000390-1721925000-1721932200@www.cwa4502.org
SUMMARY:Board of Trustees Meeting
DESCRIPTION:Find Board of Trustees Minutes here. Minutes are uploaded for the previous month after approval by the Board of Trustees.
URL:https://www.cwa4502.org/event/board-of-trustees-meeting/2024-07-25/
CATEGORIES:Board Meetings
ATTACH;FMTTYPE=image/png:https://www.cwa4502.org/wp-content/uploads/2025/08/CWA-Local-4502_White.png
END:VEVENT
BEGIN:VEVENT
DTSTART;TZID=America/Chicago:20240710T163000
DTEND;TZID=America/Chicago:20240710T190000
DTSTAMP:20260420T213457
CREATED:20250828T142218Z
LAST-MODIFIED:20251112T150956Z
UID:10000351-1720629000-1720638000@www.cwa4502.org
SUMMARY:Membership Meeting
DESCRIPTION:Membership meetings are an important way to communicate within our local. We use these meetings to provide updates about what is happening in their local. We share information on new benefits\, upcoming social activities\, and ways to get involved with your union. When it comes time for contract negotiations\, membership meetings are the place to share your ideas for what you want to see in the next contract. \nFind this meeting’s agenda\, virtual option information\, and past minutes on the Membership Meeting webpage. \n4:30 p.m. – Social hour with hor d’oeuvres\n5:30 p.m. – Meeting begins
URL:https://www.cwa4502.org/event/membership-meeting/2024-07-10/
LOCATION:CWA Local 4502\, 399 E. Main St. Suite 200\, Columbus\, OH\, 43215\, United States
CATEGORIES:Membership Meetings
ATTACH;FMTTYPE=image/png:https://www.cwa4502.org/wp-content/uploads/2025/08/CWA-Local-4502.png
END:VEVENT
BEGIN:VEVENT
DTSTART;VALUE=DATE:20240704
DTEND;VALUE=DATE:20240705
DTSTAMP:20260420T213457
CREATED:20250828T152740Z
LAST-MODIFIED:20250828T152915Z
UID:10000467-1720051200-1720137599@www.cwa4502.org
SUMMARY:Independence Day (Union Hall Closed)
DESCRIPTION:
URL:https://www.cwa4502.org/event/independence-day-union-hall-closed/2024-07-04/
CATEGORIES:Holidays
ATTACH;FMTTYPE=image/png:https://www.cwa4502.org/wp-content/uploads/2025/08/CWA-Local-4502_White.png
END:VEVENT
BEGIN:VEVENT
DTSTART;TZID=America/Chicago:20240627T163000
DTEND;TZID=America/Chicago:20240627T183000
DTSTAMP:20260420T213457
CREATED:20250828T143258Z
LAST-MODIFIED:20250828T143258Z
UID:10000389-1719505800-1719513000@www.cwa4502.org
SUMMARY:Board of Trustees Meeting
DESCRIPTION:Find Board of Trustees Minutes here. Minutes are uploaded for the previous month after approval by the Board of Trustees.
URL:https://www.cwa4502.org/event/board-of-trustees-meeting/2024-06-27/
CATEGORIES:Board Meetings
ATTACH;FMTTYPE=image/png:https://www.cwa4502.org/wp-content/uploads/2025/08/CWA-Local-4502_White.png
END:VEVENT
BEGIN:VEVENT
DTSTART;VALUE=DATE:20240619
DTEND;VALUE=DATE:20240620
DTSTAMP:20260420T213457
CREATED:20250828T152842Z
LAST-MODIFIED:20250828T152842Z
UID:10000468-1718755200-1718841599@www.cwa4502.org
SUMMARY:Juneteenth (Union Hall Closed)
DESCRIPTION:
URL:https://www.cwa4502.org/event/juneteenth-union-hall-closed/2024-06-19/
CATEGORIES:Holidays
END:VEVENT
BEGIN:VEVENT
DTSTART;VALUE=DATE:20240527
DTEND;VALUE=DATE:20240528
DTSTAMP:20260420T213457
CREATED:20250828T153527Z
LAST-MODIFIED:20250828T153527Z
UID:10000483-1716768000-1716854399@www.cwa4502.org
SUMMARY:Memorial Day (Union Hall Closed)
DESCRIPTION:
URL:https://www.cwa4502.org/event/memorial-day-union-hall-closed/2024-05-27/
CATEGORIES:Holidays
ATTACH;FMTTYPE=image/png:https://www.cwa4502.org/wp-content/uploads/2025/08/CWA-Local-4502_White.png
END:VEVENT
BEGIN:VEVENT
DTSTART;TZID=America/Chicago:20240523T163000
DTEND;TZID=America/Chicago:20240523T183000
DTSTAMP:20260420T213457
CREATED:20250828T143258Z
LAST-MODIFIED:20250828T143258Z
UID:10000388-1716481800-1716489000@www.cwa4502.org
SUMMARY:Board of Trustees Meeting
DESCRIPTION:Find Board of Trustees Minutes here. Minutes are uploaded for the previous month after approval by the Board of Trustees.
URL:https://www.cwa4502.org/event/board-of-trustees-meeting/2024-05-23/
CATEGORIES:Board Meetings
ATTACH;FMTTYPE=image/png:https://www.cwa4502.org/wp-content/uploads/2025/08/CWA-Local-4502_White.png
END:VEVENT
BEGIN:VEVENT
DTSTART;TZID=America/Chicago:20240508T163000
DTEND;TZID=America/Chicago:20240508T190000
DTSTAMP:20260420T213457
CREATED:20250828T142218Z
LAST-MODIFIED:20251112T150956Z
UID:10000350-1715185800-1715194800@www.cwa4502.org
SUMMARY:Membership Meeting
DESCRIPTION:Membership meetings are an important way to communicate within our local. We use these meetings to provide updates about what is happening in their local. We share information on new benefits\, upcoming social activities\, and ways to get involved with your union. When it comes time for contract negotiations\, membership meetings are the place to share your ideas for what you want to see in the next contract. \nFind this meeting’s agenda\, virtual option information\, and past minutes on the Membership Meeting webpage. \n4:30 p.m. – Social hour with hor d’oeuvres\n5:30 p.m. – Meeting begins
URL:https://www.cwa4502.org/event/membership-meeting/2024-05-08/
LOCATION:CWA Local 4502\, 399 E. Main St. Suite 200\, Columbus\, OH\, 43215\, United States
CATEGORIES:Membership Meetings
ATTACH;FMTTYPE=image/png:https://www.cwa4502.org/wp-content/uploads/2025/08/CWA-Local-4502.png
END:VEVENT
BEGIN:VEVENT
DTSTART;TZID=America/Chicago:20240425T163000
DTEND;TZID=America/Chicago:20240425T183000
DTSTAMP:20260420T213457
CREATED:20250828T143258Z
LAST-MODIFIED:20250828T143258Z
UID:10000387-1714062600-1714069800@www.cwa4502.org
SUMMARY:Board of Trustees Meeting
DESCRIPTION:Find Board of Trustees Minutes here. Minutes are uploaded for the previous month after approval by the Board of Trustees.
URL:https://www.cwa4502.org/event/board-of-trustees-meeting/2024-04-25/
CATEGORIES:Board Meetings
ATTACH;FMTTYPE=image/png:https://www.cwa4502.org/wp-content/uploads/2025/08/CWA-Local-4502_White.png
END:VEVENT
BEGIN:VEVENT
DTSTART;TZID=America/Chicago:20240328T163000
DTEND;TZID=America/Chicago:20240328T183000
DTSTAMP:20260420T213457
CREATED:20250828T143258Z
LAST-MODIFIED:20250828T143258Z
UID:10000386-1711643400-1711650600@www.cwa4502.org
SUMMARY:Board of Trustees Meeting
DESCRIPTION:Find Board of Trustees Minutes here. Minutes are uploaded for the previous month after approval by the Board of Trustees.
URL:https://www.cwa4502.org/event/board-of-trustees-meeting/2024-03-28/
CATEGORIES:Board Meetings
ATTACH;FMTTYPE=image/png:https://www.cwa4502.org/wp-content/uploads/2025/08/CWA-Local-4502_White.png
END:VEVENT
BEGIN:VEVENT
DTSTART;TZID=America/Chicago:20240313T163000
DTEND;TZID=America/Chicago:20240313T190000
DTSTAMP:20260420T213457
CREATED:20250828T142218Z
LAST-MODIFIED:20251112T150956Z
UID:10000349-1710347400-1710356400@www.cwa4502.org
SUMMARY:Membership Meeting
DESCRIPTION:Membership meetings are an important way to communicate within our local. We use these meetings to provide updates about what is happening in their local. We share information on new benefits\, upcoming social activities\, and ways to get involved with your union. When it comes time for contract negotiations\, membership meetings are the place to share your ideas for what you want to see in the next contract. \nFind this meeting’s agenda\, virtual option information\, and past minutes on the Membership Meeting webpage. \n4:30 p.m. – Social hour with hor d’oeuvres\n5:30 p.m. – Meeting begins
URL:https://www.cwa4502.org/event/membership-meeting/2024-03-13/
LOCATION:CWA Local 4502\, 399 E. Main St. Suite 200\, Columbus\, OH\, 43215\, United States
CATEGORIES:Membership Meetings
ATTACH;FMTTYPE=image/png:https://www.cwa4502.org/wp-content/uploads/2025/08/CWA-Local-4502.png
END:VEVENT
BEGIN:VEVENT
DTSTART;TZID=America/Chicago:20240222T163000
DTEND;TZID=America/Chicago:20240222T183000
DTSTAMP:20260420T213457
CREATED:20250828T143258Z
LAST-MODIFIED:20250828T143258Z
UID:10000385-1708619400-1708626600@www.cwa4502.org
SUMMARY:Board of Trustees Meeting
DESCRIPTION:Find Board of Trustees Minutes here. Minutes are uploaded for the previous month after approval by the Board of Trustees.
URL:https://www.cwa4502.org/event/board-of-trustees-meeting/2024-02-22/
CATEGORIES:Board Meetings
ATTACH;FMTTYPE=image/png:https://www.cwa4502.org/wp-content/uploads/2025/08/CWA-Local-4502_White.png
END:VEVENT
BEGIN:VEVENT
DTSTART;VALUE=DATE:20240219
DTEND;VALUE=DATE:20240220
DTSTAMP:20260420T213457
CREATED:20250828T153752Z
LAST-MODIFIED:20250828T153752Z
UID:10000490-1708300800-1708387199@www.cwa4502.org
SUMMARY:Presidents' Day (Union Hall Closed)
DESCRIPTION:
URL:https://www.cwa4502.org/event/presidents-day-union-hall-closed/2024-02-19/
CATEGORIES:Holidays
ATTACH;FMTTYPE=image/png:https://www.cwa4502.org/wp-content/uploads/2025/08/CWA-Local-4502_White.png
END:VEVENT
BEGIN:VEVENT
DTSTART;TZID=America/Chicago:20240125T163000
DTEND;TZID=America/Chicago:20240125T183000
DTSTAMP:20260420T213457
CREATED:20250828T143258Z
LAST-MODIFIED:20250828T143258Z
UID:10000384-1706200200-1706207400@www.cwa4502.org
SUMMARY:Board of Trustees Meeting
DESCRIPTION:Find Board of Trustees Minutes here. Minutes are uploaded for the previous month after approval by the Board of Trustees.
URL:https://www.cwa4502.org/event/board-of-trustees-meeting/2024-01-25/
CATEGORIES:Board Meetings
ATTACH;FMTTYPE=image/png:https://www.cwa4502.org/wp-content/uploads/2025/08/CWA-Local-4502_White.png
END:VEVENT
BEGIN:VEVENT
DTSTART;VALUE=DATE:20240115
DTEND;VALUE=DATE:20240116
DTSTAMP:20260420T213457
CREATED:20250828T153910Z
LAST-MODIFIED:20250828T153910Z
UID:10000497-1705276800-1705363199@www.cwa4502.org
SUMMARY:Martin Luther King Jr. Day (Union Hall Closed)
DESCRIPTION:
URL:https://www.cwa4502.org/event/martin-luther-king-jr-day-union-hall-closed/2024-01-15/
CATEGORIES:Holidays
ATTACH;FMTTYPE=image/png:https://www.cwa4502.org/wp-content/uploads/2025/08/CWA-Local-4502_White.png
END:VEVENT
BEGIN:VEVENT
DTSTART;VALUE=DATE:20240101
DTEND;VALUE=DATE:20240102
DTSTAMP:20260420T213457
CREATED:20250828T153953Z
LAST-MODIFIED:20250828T153953Z
UID:10000504-1704067200-1704153599@www.cwa4502.org
SUMMARY:New Year's Day (Union Hall Closed)
DESCRIPTION:
URL:https://www.cwa4502.org/event/new-years-day-union-hall-closed/2024-01-01/
CATEGORIES:Holidays
ATTACH;FMTTYPE=image/png:https://www.cwa4502.org/wp-content/uploads/2025/08/CWA-Local-4502_White.png
END:VEVENT
END:VCALENDAR